BEGIN:VCALENDAR
VERSION:2.0
PRODID:-//ChamberMaster//Event Calendar 2.0//EN
METHOD:PUBLISH
X-PUBLISHED-TTL:P3D
REFRESH-INTERVAL:P3D
CALSCALE:GREGORIAN
BEGIN:VEVENT
DTSTART:20230921T193000Z
DTEND:20230921T210000Z
X-MICROSOFT-CDO-ALLDAYEVENT:FALSE
SUMMARY:The Supreme Court on Campus
DESCRIPTION:Two of this year's Supreme Court decisions will have major implications for the operations of our higher education clients. In an effort to help with compliance efforts\, Bowditch is pleased to announce a new session of the Higher Education Roundtable Series. These moderated discussions offer an opportunity for college and university administrators to talk candidly among each other about common issues and learn from each other's successes and challenges. The roundtables are limited to employees of colleges and universities\, and are not recorded\, which we hope will allow for robust discussion.\n\nThis fall's roundtable will focus on two topics:\n\n1. Admissions Strategies for Diversity in a Post-Affirmative Action World\n\nThe Supreme Court's decision in SFFA vs. Harvard invalidated the approach that many colleges and universities take in considering applicants' race as part of admissions decisions. Many colleges and universities\, however\, remain committed to the goal of a diverse student body.\n\nThis conversation will be moderated by Bowditch attorneys\, including Brigid Harrington and Ben Hinks\, and will involve discussion on topics such as:\n\n\n	Defining diversity\, and linking it to an educational mission\n	Ways in which race can be a factor in admissions\n	Strategies within the admissions process for building a diverse student body\n	Strategies outside of the admissions process (recruitment\, enrollment) for attracting and retaining a diverse student body\n\n\n2. Religious Accommodations   Do I need to change my policy?\n\nThe Supreme Court's decision in Groff v. DeJoy changed the approach that employers must take to considering requests for religious accommodations. This may be especially impactful for institutions that have a vaccine mandate and offer exemptions from that mandate based on religion. Recent precedent in the District of Massachusetts regarding vaccine mandates will also be discussed.\n\nDiscussion topics will include:\n\n\n	What must a religious accommodations policy state\, and what must be included in the process?\n	How does this change existing processes with regard to vaccine mandates\n	Do changes to religious accommodations in employment affect student academic accommodations?\n\n\nThe discussion will be led by Bowditch attorneys Brigid Harrington\, Chelsie Vokes and Ben Hinks.\n\nBoston date also available on September 19.
X-ALT-DESC;FMTTYPE=text/html:<p>Two of this year&rsquo\;s Supreme Court decisions will have major implications for the operations of our higher education clients. In an effort to help with compliance efforts\, Bowditch is pleased to announce a new session of the Higher Education Roundtable Series. These moderated discussions offer an opportunity for college and university administrators to talk candidly among each other about common issues and learn from each other&rsquo\;s successes and challenges. The roundtables are limited to employees of colleges and universities\, and are not recorded\, which we hope will allow for robust discussion.</p>\n\n<p>This fall&rsquo\;s roundtable will focus on two topics:</p>\n\n<h3><strong>1. Admissions Strategies for Diversity in a Post-Affirmative Action World</strong></h3>\n\n<p>The Supreme Court&rsquo\;s decision in&nbsp\;<em>SFFA vs. Harvard&nbsp\;</em>invalidated the approach that many colleges and universities take in considering applicants&rsquo\; race as part of admissions decisions. Many colleges and universities\, however\, remain committed to the goal of a diverse student body.</p>\n\n<p>This conversation will be moderated by Bowditch attorneys\, including Brigid Harrington and Ben Hinks\, and will involve discussion on topics such as:</p>\n\n<ul>\n	<li>Defining diversity\, and linking it to an educational mission</li>\n	<li>Ways in which race can be a factor in admissions</li>\n	<li>Strategies within the admissions process for building a diverse student body</li>\n	<li>Strategies outside of the admissions process (recruitment\, enrollment) for attracting and retaining a diverse student body</li>\n</ul>\n\n<h3><strong>2. Religious Accommodations &ndash\; Do I need to change my policy?</strong></h3>\n\n<p>The Supreme Court&rsquo\;s decision in&nbsp\;<em>Groff v. DeJoy</em>&nbsp\;changed the approach that employers must take to considering requests for religious accommodations. This may be especially impactful for institutions that have a vaccine mandate and offer exemptions from that mandate based on religion. Recent precedent in the District of Massachusetts regarding vaccine mandates will also be discussed.</p>\n\n<p>Discussion topics will include:</p>\n\n<ul>\n	<li>What must a religious accommodations policy state\, and what must be included in the process?</li>\n	<li>How does this change existing processes with regard to vaccine mandates</li>\n	<li>Do changes to religious accommodations in employment affect student academic accommodations?</li>\n</ul>\n\n<p>The discussion will be led by Bowditch attorneys Brigid Harrington\, Chelsie Vokes and Ben Hinks.</p>\n\n<p><a href="https://events.r20.constantcontact.com/register/eventReg?oeidk=a07ejxf24psc66b60ad&amp\;oseq=&amp\;c=&amp\;ch=">Boston date also available on September 19.</a></p>\n
LOCATION:Western New England University\, 1215 Wilbraham Road\, Center for the Sciences & Pharmacy\, Room 300\, Springfield\, MA
UID:e.2083.16441
SEQUENCE:3
DTSTAMP:20260420T210258Z
URL:https://business.cmschamber.org/events/details/the-supreme-court-on-campus-16441
END:VEVENT

END:VCALENDAR
