BEGIN:VCALENDAR
VERSION:2.0
PRODID:-//ChamberMaster//Event Calendar 2.0//EN
METHOD:PUBLISH
X-PUBLISHED-TTL:P3D
REFRESH-INTERVAL:P3D
CALSCALE:GREGORIAN
BEGIN:VEVENT
DTSTART:20220224T170000Z
DTEND:20220224T180000Z
X-MICROSOFT-CDO-ALLDAYEVENT:FALSE
SUMMARY:The Ultimate Email Marketing Strategy Course\, Session 1
DESCRIPTION:While millions of marketers keep busy looking for the shiny new marketing tools to separate themselves from the competition\, email marketing remains one of the most underutilized ways to educate consumers\, to understand what motivates your customer base\, and to sell more products and services online. Email marketing also drives the majority of online sales each year and is one of the only channels where we own our audience information. In this five-session come-to-one-or-come-to-all series\, Jamie Cocco of Empowered Social Media is back by popular demand to help you take your email marketing campaign from drab to fab!\n\nIn this first session\, we will discuss the basics of email marketing\, developing an understanding of key concepts and how email marketing relates to the holistic marketing mix. We will compare email marketing to customer relationship management (CRM) systems\, social media marketing\, search engine optimization (SEO)\, and traditional marketing to understand its full value.\n\nOutcome: By the end of this session\, you will have a deeper understanding of email marketing and why it is important to the overall marketing mix.
X-ALT-DESC;FMTTYPE=text/html:<p>While millions of marketers keep busy looking for the shiny new marketing tools to separate themselves from the competition\, email marketing remains one of the most underutilized ways to educate consumers\, to understand what motivates your customer base\, and to sell more products and services online. Email marketing also drives the majority of online sales each year and is one of the only channels where we own our audience information. In this five-session come-to-one-or-come-to-all series\, Jamie Cocco of Empowered Social Media is back by popular demand to help you take your email marketing campaign from drab to fab!</p>\n\n<p>In this first session\, we will discuss the basics of email marketing\, developing an understanding of key concepts and how email marketing relates to the holistic marketing mix. We will compare email marketing to customer relationship management (CRM) systems\, social media marketing\, search engine optimization (SEO)\, and traditional marketing to understand its full value.</p>\n\n<p><strong>Outcome:&nbsp\;</strong>By the end of this session\, you will have a deeper understanding of email marketing and why it is important to the overall marketing mix.</p>\n
LOCATION:Zoom
UID:e.2083.13817
SEQUENCE:3
DTSTAMP:20260422T021618Z
URL:https://business.cmschamber.org/events/details/the-ultimate-email-marketing-strategy-course-session-1-13817
END:VEVENT

END:VCALENDAR
