BEGIN:VCALENDAR
VERSION:2.0
PRODID:-//ChamberMaster//Event Calendar 2.0//EN
METHOD:PUBLISH
X-PUBLISHED-TTL:P3D
REFRESH-INTERVAL:P3D
CALSCALE:GREGORIAN
BEGIN:VEVENT
DTSTART:20220310T170000Z
DTEND:20220310T180000Z
X-MICROSOFT-CDO-ALLDAYEVENT:FALSE
SUMMARY:The Ultimate Email Marketing Strategy Course\, Session 3
DESCRIPTION:While millions of marketers keep busy looking for the shiny new marketing tools to separate themselves from the competition\, email marketing remains one of the most underutilized ways to educate consumers\, to understand what motivates your customer base\, and to sell more products and services online. Email marketing also drives the majority of online sales each year and is one of the only channels where we own our audience information. In this five-session come-to-one-or-come-to-all series\, Jamie Cocco of Empowered Social Media is back by popular demand to help you take your email marketing campaign from drab to fab!\n\nIn this session\, we will discuss building an email strategy that includes monthly newsletters (nurture emails) and strategic yearly email blasts (email campaigns). We will also break down the unique strategic differences and design elements that go into creating effective email marketing.\n\nOutcome: By the end of this session\, you will have a deeper understanding of email marketing implementation and have started to draft newsletter and email campaign strategies.
X-ALT-DESC;FMTTYPE=text/html:<p>While millions of marketers keep busy looking for the shiny new marketing tools to separate themselves from the competition\, email marketing remains one of the most underutilized ways to educate consumers\, to understand what motivates your customer base\, and to sell more products and services online. Email marketing also drives the majority of online sales each year and is one of the only channels where we own our audience information. In this five-session come-to-one-or-come-to-all series\, Jamie Cocco of Empowered Social Media is back by popular demand to help you take your email marketing campaign from drab to fab!</p>\n\n<p>In this session\, we will discuss building an email strategy that includes monthly newsletters (nurture emails) and strategic yearly email blasts (email campaigns). We will also break down the unique strategic differences and design elements that go into creating effective email marketing.</p>\n\n<p><strong>Outcome:&nbsp\;</strong>By the end of this session\, you will have a deeper understanding of email marketing implementation and have started to draft newsletter and email campaign strategies.</p>\n
LOCATION:Zoom
UID:e.2083.13823
SEQUENCE:3
DTSTAMP:20260422T021705Z
URL:https://business.cmschamber.org/events/details/the-ultimate-email-marketing-strategy-course-session-3-13823
END:VEVENT

END:VCALENDAR
