BEGIN:VCALENDAR
VERSION:2.0
PRODID:-//ChamberMaster//Event Calendar 2.0//EN
METHOD:PUBLISH
X-PUBLISHED-TTL:P3D
REFRESH-INTERVAL:P3D
CALSCALE:GREGORIAN
BEGIN:VEVENT
DTSTART:20220317T160000Z
DTEND:20220317T170000Z
X-MICROSOFT-CDO-ALLDAYEVENT:FALSE
SUMMARY:The Ultimate Email Marketing Strategy Course\, Session 4
DESCRIPTION:While millions of marketers keep busy looking for the shiny new marketing tools to separate themselves from the competition\, email marketing remains one of the most underutilized ways to educate consumers\, to understand what motivates your customer base\, and to sell more products and services online. Email marketing also drives the majority of online sales each year and is one of the only channels where we own our audience information. In this five-session come-to-one-or-come-to-all series\, Jamie Cocco of Empowered Social Media is back by popular demand to help you take your email marketing campaign from drab to fab!\n\nIn this session\, we will explore some popular email marketing platforms (MailChimp and Constant Contact)\, comparing the benefits and drawbacks of each platform to help you determine which one is best for your business.\n\nOutcome: By the end of this session\, you will understand the key functionality and differences between two of the top email marketing platforms on the market and have chosen the best platform for you.
X-ALT-DESC;FMTTYPE=text/html:<p>While millions of marketers keep busy looking for the shiny new marketing tools to separate themselves from the competition\, email marketing remains one of the most underutilized ways to educate consumers\, to understand what motivates your customer base\, and to sell more products and services online. Email marketing also drives the majority of online sales each year and is one of the only channels where we own our audience information. In this five-session come-to-one-or-come-to-all series\, Jamie Cocco of Empowered Social Media is back by popular demand to help you take your email marketing campaign from drab to fab!</p>\n\n<p>In this session\, we will explore some popular email marketing platforms (MailChimp and Constant Contact)\, comparing the benefits and drawbacks of each platform to help you determine which one is best for your business.</p>\n\n<p><strong>Outcome:&nbsp\;</strong>By the end of this session\, you will understand the key functionality and differences between two of the top email marketing platforms on the market and have chosen the best platform for you.</p>\n
LOCATION:Zoom
UID:e.2083.13825
SEQUENCE:3
DTSTAMP:20260422T021618Z
URL:https://business.cmschamber.org/events/details/the-ultimate-email-marketing-strategy-course-session-4-13825
END:VEVENT

END:VCALENDAR
