BEGIN:VCALENDAR
VERSION:2.0
PRODID:-//ChamberMaster//Event Calendar 2.0//EN
METHOD:PUBLISH
X-PUBLISHED-TTL:P3D
REFRESH-INTERVAL:P3D
CALSCALE:GREGORIAN
BEGIN:VEVENT
DTSTART:20220324T160000Z
DTEND:20220324T170000Z
X-MICROSOFT-CDO-ALLDAYEVENT:FALSE
SUMMARY:The Ultimate Email Marketing Strategy Course\, Session 5
DESCRIPTION:While millions of marketers keep busy looking for the shiny new marketing tools to separate themselves from the competition\, email marketing remains one of the most underutilized ways to educate consumers\, to understand what motivates your customer base\, and to sell more products and services online. Email marketing also drives the majority of online sales each year and is one of the only channels where we own our audience information. In this five-session come-to-one-or-come-to-all series\, Jamie Cocco of Empowered Social Media is back by popular demand to help you take your email marketing campaign from drab to fab!\n\nIn this final session\, we will build on your deeper understanding of email marketing to help you create a strategically meaningful email marketing calendar. We will also explore advanced concepts like importing contacts from other platforms (Gmail\, Outlook\, etc.)\, tagging them inside your chosen email marketing platform to create customer segments\, and creating automations.\n\nOutcome: By the end of this session\, you will have started or finished creating an email marketing calendar\, understand how to import and archive contacts\, and learned the importance of features like tagging and automations.
X-ALT-DESC;FMTTYPE=text/html:<p>While millions of marketers keep busy looking for the shiny new marketing tools to separate themselves from the competition\, email marketing remains one of the most underutilized ways to educate consumers\, to understand what motivates your customer base\, and to sell more products and services online. Email marketing also drives the majority of online sales each year and is one of the only channels where we own our audience information. In this five-session come-to-one-or-come-to-all series\, Jamie Cocco of Empowered Social Media is back by popular demand to help you take your email marketing campaign from drab to fab!</p>\n\n<p>In this final session\, we will build on your deeper understanding of email marketing to help you create a strategically meaningful email marketing calendar. We will also explore advanced concepts like importing contacts from other platforms (Gmail\, Outlook\, etc.)\, tagging them inside your chosen email marketing platform to create customer segments\, and creating automations.</p>\n\n<p><strong>Outcome:&nbsp\;</strong>By the end of this session\, you will have started or finished creating an email marketing calendar\, understand how to import and archive contacts\, and learned the importance of features like tagging and automations.</p>\n
LOCATION:Zoom
UID:e.2083.13827
SEQUENCE:3
DTSTAMP:20260422T021618Z
URL:https://business.cmschamber.org/events/details/the-ultimate-email-marketing-strategy-course-session-5-13827
END:VEVENT

END:VCALENDAR
