BEGIN:VCALENDAR
VERSION:2.0
PRODID:-//ChamberMaster//Event Calendar 2.0//EN
METHOD:PUBLISH
X-PUBLISHED-TTL:P3D
REFRESH-INTERVAL:P3D
CALSCALE:GREGORIAN
BEGIN:VEVENT
DTSTART:20230807T120000Z
DTEND:20230807T200000Z
X-MICROSOFT-CDO-ALLDAYEVENT:FALSE
SUMMARY:The Worcester State Univerity George H. Albro '65 Memorial Golf Tournament to support Lancer Athletics
DESCRIPTION:Beloved Coach George Albro '65 built a legacy of leadership and sportsmanship at Worcester State University.  This culture still exists today.  Building champions in the classroom\, champions in competition\, and champions of character was important to George\, and the Annual George H. Albro Memorial Golf Tournament supports his mission to provide our coaches and staff with the resources necessary to fund a\n\nquality student-athlete experience.\n\n\n\nThe 2023 George H. Albro Memorial Tournament will be held on August 7th at the Cyprian Keyes Golf Club in Boylston\, MA.  All funds raised are directly allocated to easing the financial needs of our athletic teams.  We encourage you to enjoy a fun filled day of golf while supporting a specific Lancer team or the\n\nAthletics Department.   \n\n\n\nOur student athletes work year-round to achieve their athletic and academic goals\, while balancing their financial obligations.  The Albro Tournament serves as the flagship athletic fundraising event to help WSU Lancers ease out-of-pocket expenses for equipment\, uniforms travel and more.  \n\n\n\nJoin us to celebrate George's legacy and the start of another successful year for\n\nWorcester State University Athletics.
X-ALT-DESC;FMTTYPE=text/html:<div style="text-align: center\;"><span style="font-family:arial\,sans-serif">Beloved Coach George Albro &lsquo\;65 built a legacy of leadership and sportsmanship at Worcester State University.&nbsp\; This culture still exists today.&nbsp\; Building champions in the classroom\, champions in competition\, and champions of character was important to George\, and the Annual <strong>George H. Albro Memorial Golf Tournament</strong> supports his mission to <span style="color:#1A2026">provide our coaches and staff with the resources necessary to fund a<br />\nquality student-athlete experience.</span></span><br />\n<br />\n<strong><span style="font-family:arial\,sans-serif">The 2023 George H. Albro Memorial Tournament will be held on August 7<sup>th</sup> at the Cyprian Keyes Golf Club in Boylston\, MA</span></strong><span style="font-family:arial\,sans-serif">.&nbsp\; All funds raised are directly allocated to easing the financial needs of our athletic teams.&nbsp\; We encourage you to enjoy a fun filled day of golf while supporting a specific Lancer team or the<br />\nAthletics Department.&nbsp\; &nbsp\;</span><br />\n<br />\n<span style="font-family:arial\,sans-serif">Our student athletes work year-round to achieve their athletic and academic goals\, while balancing their financial obligations.&nbsp\; <span style="color:#1A2026">The Albro Tournament serves as the flagship athletic fundraising event to help WSU Lancers ease out-of-pocket expenses for equipment\, uniforms travel and more.&nbsp\; </span></span><br />\n<br />\n<strong><span style="color:#1A2026"><span style="font-family:arial\,sans-serif">Join us to celebrate George&rsquo\;s legacy and the start of another successful year for<br />\nWorcester State University Athletics</span></span></strong><span style="color:#1A2026"><span style="font-family:arial\,sans-serif">.&nbsp\; </span></span></div>\n
LOCATION:CYPRIAN KEYES GOLF CLUB 284 EAST TEMPLE ST. BOYLSTON\, MA 01505
UID:e.2083.15971
SEQUENCE:3
DTSTAMP:20260420T225157Z
URL:https://business.cmschamber.org/events/details/the-worcester-state-univerity-george-h-albro-65-memorial-golf-tournament-to-support-lancer-athletics-15971
END:VEVENT

END:VCALENDAR
