BEGIN:VCALENDAR
VERSION:2.0
PRODID:-//ChamberMaster//Event Calendar 2.0//EN
METHOD:PUBLISH
X-PUBLISHED-TTL:P3D
REFRESH-INTERVAL:P3D
CALSCALE:GREGORIAN
BEGIN:VEVENT
DTSTART:20220918T130000Z
DTEND:20220918T170000Z
X-MICROSOFT-CDO-ALLDAYEVENT:FALSE
SUMMARY:The Worcester Walk to Defeat ALS
DESCRIPTION:The ALS Association Massachusetts Chapter is very excited to be teaming up with the Worcester Red Sox again in 2022 and hosting The Worcester Walk to Defeat ALS at Polar Park\, on Sunday\, September 18\, 2022. \n\n \n\nOur event is a walk\, but it is much more than a walk.  Families and friends form teams to come out and walk\, raise awareness\, and raise funds for The ALS Association\, Massachusetts Chapter.  The Worcester Walk to Defeat ALS is an opportunity to support the ALS community\, bring hope to people living with ALS\, and celebrate our impact. \n\n \n\nProceeds from the Worcester Walk to Defeat ALS will provide local families living with ALS no-cost services like support groups\, home visits\, insurance counseling\, referrals to community resources\, durable medical equipment loans\, the Care Connection Program\, & education. \n\n \n\n9:00AM-Registration which will take place on The DCU Plaza\, which is at the main entrance of Polar Park. Volunteers would need to be there around 8:00AM \n\nWalk participants can gather on the concourse and enjoy coffee and breakfast\n\n10:30AM-Opening Ceremony \n\n10:40AM-The 1 mile walk around Polar Park Field begins. Smiley\, The Worcester Red Sox Mascot will be there cheering participants on during the walk \n\n12:30AM-Closing Ceremony \n\n \n\nThere will be exciting raffle prizes and a 50/50 raffle.
X-ALT-DESC;FMTTYPE=text/html:<span style="font-size:10pt">The ALS Association Massachusetts Chapter is very excited to be teaming up with the Worcester Red Sox again in 2022 and hosting The Worcester Walk to Defeat ALS&nbsp\;at Polar Park\, on Sunday\, September 18\, 2022.&nbsp\;</span><br />\n&nbsp\;<br />\n<span style="font-size:10pt">Our event is a walk\, but it is much more than a walk.&nbsp\;&nbsp\;Families and friends form teams to come out and walk\, raise awareness\, and raise funds for The ALS Association\, Massachusetts Chapter.&nbsp\;&nbsp\;The Worcester Walk to Defeat ALS is an opportunity to support the ALS community\, bring hope to people living with ALS\, and celebrate our impact.&nbsp\;</span><br />\n&nbsp\;<br />\n<span style="font-size:10pt">Proceeds from the&nbsp\;Worcester Walk to Defeat ALS will provide local families living with ALS no-cost services like support groups\, home visits\, insurance counseling\, referrals to community resources\, durable medical equipment loans\, the&nbsp\;Care Connection Program\,&nbsp\;&amp\; education.&nbsp\;</span><br />\n&nbsp\;<br />\n<span style="color:#c00000"><span style="font-size:10pt">9:00AM</span></span><span style="color:#2d2d2d"><span style="font-size:10pt">-Registration which will take place on The DCU Plaza\, which is at the main entrance of Polar Park. Volunteers would need to be there around 8:00AM</span></span>&nbsp\;<br />\n<span style="color:#2d2d2d"><span style="font-size:10pt">Walk participants can gather on the concourse and enjoy coffee and breakfast</span></span><br />\n<span style="color:#c00000"><span style="font-size:10pt">10:30AM</span></span><span style="color:#2d2d2d"><span style="font-size:10pt">-Opening Ceremony</span></span>&nbsp\;<br />\n<span style="color:#c00000"><span style="font-size:10pt">10:40AM</span></span><span style="color:#2d2d2d"><span style="font-size:10pt">-The 1 mile walk around Polar Park Field begins. Smiley\, The Worcester Red Sox Mascot will be there cheering participants on during the walk</span></span>&nbsp\;<br />\n<span style="color:#c00000"><span style="font-size:10pt">12:30AM</span></span><span style="color:#2d2d2d"><span style="font-size:10pt">-Closing Ceremony</span></span>&nbsp\;<br />\n&nbsp\;<br />\n<span style="font-size:10pt">There will be exciting raffle prizes and a 50/50 raffle.</span>
LOCATION:Polar Park\, 100 Madison Street\, Worcester\, MA
UID:e.2083.13897
SEQUENCE:3
DTSTAMP:20260421T172035Z
URL:https://business.cmschamber.org/events/details/the-worcester-walk-to-defeat-als-13897
END:VEVENT

END:VCALENDAR
