BEGIN:VCALENDAR
VERSION:2.0
PRODID:-//ChamberMaster//Event Calendar 2.0//EN
METHOD:PUBLISH
X-PUBLISHED-TTL:P3D
REFRESH-INTERVAL:P3D
CALSCALE:GREGORIAN
BEGIN:VEVENT
DTSTART:20191107T130000Z
DTEND:20191107T150000Z
X-MICROSOFT-CDO-ALLDAYEVENT:FALSE
SUMMARY:Title IX in Limbo: Keep Calm and Prepare for the New Rules
DESCRIPTION:Nearly a year has passed since the Department of Education issued its proposed amendments to the regulations implementing Title IX\, leaving colleges and universities in a state of flux as they anticipate when the final rules will be published\, and just how sweeping they will be.  Being unable to anticipate the timing and breadth of the impending regulations\, most schools have kept the status quo and continue to respond to reports of sexual assault in accordance with their existing procedures.\n\n \n\nUnder the backdrop of the proposed regulations\, recent cases\, and personal experiences\, this seminar will explore the current state of Title IX enforcement\, discuss best practices for compliance\, and provide guidance on how colleges and universities can prepare for the final regulations. \n\n \n\nATTORNEYS SPEAKING\n\nAriel Sullivan\n\nAmy Condon\n\n\n\nBreakfast will be served. There is no cost to attend. \n\nWe look forward to seeing you!
X-ALT-DESC;FMTTYPE=text/html:<span style="color:#333333"><span style="font-family:verdana\,sans-serif"><span style="font-size:10.0pt">Nearly a year has passed since the Department of Education issued its proposed amendments to the regulations implementing Title IX\, leaving colleges and universities in a state of flux as they anticipate when the final rules will be published\, and just how sweeping they will be.&nbsp\; Being unable to anticipate the timing and breadth of the impending regulations\, most schools have kept the status quo and continue to respond to reports of sexual assault in accordance with their existing procedures.</span></span></span><br />\n&nbsp\;<br />\n<span style="color:#333333"><span style="font-family:verdana\,sans-serif"><span style="font-size:10.0pt">Under the backdrop of the proposed regulations\, recent cases\, and personal experiences\, this seminar will explore the current state of Title IX enforcement\, discuss best practices for compliance\, and provide guidance on how colleges and universities can prepare for the final regulations.&nbsp\;</span></span></span><br />\n&nbsp\;<br />\n<strong><span style="color:#4C4C4C"><span style="font-family:verdana\,sans-serif"><span style="font-size:10.0pt">ATTORNEYS SPEAKING</span></span></span></strong><br />\n<span style="color:#333333"><span style="font-family:verdana\,sans-serif"><span style="font-size:10.0pt"><a href="https://protect-us.mimecast.com/s/EGa6CPNMmKTKAVONUZL8LZ?domain=r20.rs6.net" target="_blank"><strong><span style="color:#36B1BF">Ariel Sullivan</span></strong></a></span></span></span><br />\n<span style="color:#333333"><span style="font-family:verdana\,sans-serif"><span style="font-size:10.0pt"><a href="https://protect-us.mimecast.com/s/sDy5CQWNJKHk4Z8ltGOy_G?domain=r20.rs6.net" target="_blank"><strong><span style="color:#36B1BF">Amy Condon</span></strong></a></span></span></span><br />\n<br />\n<strong><span style="color:#36B1BF"><span style="font-family:verdana\,sans-serif"><span style="font-size:10.0pt">Breakfast will be served.&nbsp\;There is no cost to attend.&nbsp\;</span></span></span></strong><br />\n<strong><span style="color:#36B1BF"><span style="font-family:verdana\,sans-serif"><span style="font-size:10.0pt">We look forward to seeing you!</span></span></span></strong>
LOCATION:Bowditch Offices 200 Crossing Blvd\, Framingham\, MA (Seminar also offered in South Hadley on 11/5 - see bowditch.com)
UID:e.2083.11625
SEQUENCE:3
DTSTAMP:20260423T193958Z
URL:https://business.cmschamber.org/events/details/title-ix-in-limbo-keep-calm-and-prepare-for-the-new-rules-11625
END:VEVENT

END:VCALENDAR
