BEGIN:VCALENDAR
VERSION:2.0
PRODID:-//ChamberMaster//Event Calendar 2.0//EN
METHOD:PUBLISH
X-PUBLISHED-TTL:P3D
REFRESH-INTERVAL:P3D
CALSCALE:GREGORIAN
BEGIN:VEVENT
DTSTART:20240222T170000Z
DTEND:20240222T180000Z
X-MICROSOFT-CDO-ALLDAYEVENT:FALSE
SUMMARY:Trade Secrets & Patent Law (Webinar)
DESCRIPTION:There's more to intellectual property than just patents. Most people don't know how they can use trade secrets to add value to their business and protect their assets. You'll have an opportunity to learn from an expert in the field\, network with others in similar situations\, and ask questions along the way at The Venture Forum and WorcLab's first online workshop of 2024!\n\n\n\nSpeaker: Atty. Lawrence P. Zale is an Intellectual Property Law Attorney registered to practice before the U.S. Patent and Trademark Office. He has drafted and prosecuted hundreds of U.S. patents and trademarks and directed foreign counsel regarding the prosecution of several hundred other patents and trademarks in more than 15 countries. Atty. Zale acted as Chief IP Counsel for all IP matters relating to his product lines totaling several billion dollars in annual sales.\n\n\n\nNotable clients are Tyco Healthcare Group\, L.P.\, G.E. Medical Systems\, Sherwood Medical Co.\, Alstom Power\, Inc.\, IBM\, Wal-Mart\, Endurance International\, and the U.S. Army.\n\n\n\nAtty. Zale currently runs an Intellectual Property (I.P.) law firm in Pennsylvania and Massachusetts and supports small businesses and start-ups in the medical device and energy sectors. He manages a small network of attorneys\, patent engineers\, paralegals\, and other support staff who handle various aspects of I.P. and corporate law.
X-ALT-DESC;FMTTYPE=text/html:<span style="color:rgb(35\, 35\, 51)\; font-family:almaden sans\,helvetica\,arial\; font-size:14px">There&#39\;s more to intellectual property than just patents. Most people don&#39\;t know how they can use trade secrets to add value to their business and protect their assets. You&#39\;ll have an opportunity to learn from an expert in the field\, network with others in similar situations\, and ask questions along the way at The Venture Forum and WorcLab&#39\;s first online workshop of 2024!<br />\n<br />\nSpeaker: Atty. Lawrence P. Zale is an Intellectual Property Law Attorney registered to practice before the U.S. Patent and Trademark Office. He has drafted and prosecuted hundreds of U.S. patents and trademarks and directed foreign counsel regarding the prosecution of several hundred other patents and trademarks in more than 15 countries. Atty. Zale acted as Chief IP Counsel for all IP matters relating to his product lines totaling several billion dollars in annual sales.<br />\n<br />\nNotable clients are Tyco Healthcare Group\, L.P.\, G.E. Medical Systems\, Sherwood Medical Co.\, Alstom Power\, Inc.\, IBM\, Wal-Mart\, Endurance International\, and the U.S. Army.<br />\n<br />\nAtty. Zale currently runs an Intellectual Property (I.P.) law firm in Pennsylvania and Massachusetts and supports small businesses and start-ups in the medical device and energy sectors. He manages a small network of attorneys\, patent engineers\, paralegals\, and other support staff who handle various aspects of I.P. and corporate law.</span>
LOCATION:Virtual: https://us06web.zoom.us/meeting/register/tZEucuugrTwvH9fL07hcu6PcmuYJ-8lwdpJ1
UID:e.2083.17281
SEQUENCE:3
DTSTAMP:20260420T102555Z
URL:https://business.cmschamber.org/events/details/trade-secrets-patent-law-webinar-17281
END:VEVENT

END:VCALENDAR
