BEGIN:VCALENDAR
VERSION:2.0
PRODID:-//ChamberMaster//Event Calendar 2.0//EN
METHOD:PUBLISH
X-PUBLISHED-TTL:P3D
REFRESH-INTERVAL:P3D
CALSCALE:GREGORIAN
BEGIN:VEVENT
DTSTART:20230215T160000Z
DTEND:20230215T173000Z
X-MICROSOFT-CDO-ALLDAYEVENT:FALSE
SUMMARY:TRIPLE THREAT - There are only 3 ways to grow your business!
DESCRIPTION:There are only 3 WAYS to grow your business...so\, STOP SPENDING TIME on useless activities and DRIVE SALES NOW!!!\n\n \n\nJoin me LIVE on ZOOM to SKYROCKET YOUR SALES in 2023!\n\n \n\nTHIS MASTERCLASS IS FOR ENTREPRENEURS...\n\n	Looking to dramatically grow sales in 2023!\n	Who are feeling stuck\, overwhelmed\, and frustrated with their business growth!\n	Who aspire to build a CASH RICH company!\n\nThis is a LIVE interactive experience! Together we will investigate the 3 ways to grow YOUR business and how to set your focus to make it happen.
X-ALT-DESC;FMTTYPE=text/html:<span style="color:#333333"><span style="font-family:arial\,sans-serif"><span style="font-size:10pt">There are only 3 WAYS&nbsp\;to grow&nbsp\;your business...so\, STOP SPENDING TIME on useless activities and DRIVE SALES NOW!!!</span></span></span><br />\n<span style="color:#333333"><span style="font-family:arial\,sans-serif"><span style="font-size:10pt">&nbsp\;<br />\n<strong><em>Join me LIVE on ZOOM to SKYROCKET YOUR SALES in 2023!</em></strong><br />\n&nbsp\;<br />\n<u>THIS MASTERCLASS&nbsp\;IS FOR ENTREPRENEURS...</u></span></span></span>\n<ul>\n	<li><strong><span style="font-family:arial\,sans-serif"><span style="font-size:10pt">Looking to dramatically grow sales in 2023!</span></span></strong></li>\n	<li><strong><span style="font-family:arial\,sans-serif"><span style="font-size:10pt">Who are feeling stuck\, overwhelmed\,&nbsp\;and frustrated with their business growth!</span></span></strong></li>\n	<li><strong><span style="font-family:arial\,sans-serif"><span style="font-size:10pt">Who aspire to build a&nbsp\;CASH RICH&nbsp\;company!</span></span></strong></li>\n</ul>\n<span style="color:#333333"><span style="font-family:arial\,sans-serif"><span style="font-size:10pt">This is a LIVE interactive experience! Together we will investigate the 3 ways to grow YOUR business and how to set your focus to make it happen.</span></span></span>
LOCATION:Zoom
UID:e.2083.15039
SEQUENCE:3
DTSTAMP:20260421T075408Z
URL:https://business.cmschamber.org/events/details/triple-threat-there-are-only-3-ways-to-grow-your-business-02-15-2023-15039
END:VEVENT

END:VCALENDAR
