BEGIN:VCALENDAR
VERSION:2.0
PRODID:-//ChamberMaster//Event Calendar 2.0//EN
METHOD:PUBLISH
X-PUBLISHED-TTL:P3D
REFRESH-INTERVAL:P3D
CALSCALE:GREGORIAN
BEGIN:VEVENT
DTSTART:20230210T160000Z
DTEND:20230210T173000Z
X-MICROSOFT-CDO-ALLDAYEVENT:FALSE
SUMMARY:TRIPLE THREAT - There are only 3 ways to grow your business!
DESCRIPTION:There are only 3 WAYS to grow your business...so\, STOP SPENDING TIME on useless activities and DRIVE SALES NOW!!!\n\n \n\nJoin me LIVE on ZOOM to SKYROCKET YOUR SALES in 2023!\n\n \n\nTHIS MASTERCLASS IS FOR ENTREPRENEURS...\n\n	Looking to dramatically grow sales in 2023!\n	Who are feeling stuck\, overwhelmed\, and frustrated with their business growth!\n	Who aspire to build a CASH RICH company!\n\nThis is a LIVE interactive experience! Together we will investigate the 3 ways to grow YOUR business and how to set your focus to make it happen.
X-ALT-DESC;FMTTYPE=text/html:There are only 3 WAYS&nbsp\;to grow&nbsp\;your business...so\, STOP SPENDING TIME on useless activities and DRIVE SALES NOW!!!<br />\n&nbsp\;<br />\n<em><strong>Join me LIVE on ZOOM to SKYROCKET YOUR SALES in 2023!</strong></em><br />\n&nbsp\;<br />\n<u>THIS MASTERCLASS&nbsp\;IS FOR ENTREPRENEURS...</u>\n<ul>\n	<li><strong>Looking to dramatically grow sales in 2023!</strong></li>\n	<li><strong>Who are feeling stuck\, overwhelmed\,&nbsp\;and frustrated with their business growth!</strong></li>\n	<li><strong>Who aspire to build a&nbsp\;CASH RICH&nbsp\;company!</strong></li>\n</ul>\nThis is a LIVE interactive experience! Together we will investigate the 3 ways to grow YOUR business and how to set your focus to make it happen.
LOCATION:Zoom
UID:e.2083.15038
SEQUENCE:3
DTSTAMP:20260421T075246Z
URL:https://business.cmschamber.org/events/details/triple-threat-there-are-only-3-ways-to-grow-your-business-15038
END:VEVENT

END:VCALENDAR
