BEGIN:VCALENDAR
VERSION:2.0
PRODID:-//ChamberMaster//Event Calendar 2.0//EN
METHOD:PUBLISH
X-PUBLISHED-TTL:P3D
REFRESH-INTERVAL:P3D
CALSCALE:GREGORIAN
BEGIN:VEVENT
DTSTART:20221129T220000Z
DTEND:20221130T010000Z
X-MICROSOFT-CDO-ALLDAYEVENT:FALSE
SUMMARY:TUESDAYS WITH WI: DEI Speaker Series Kick Off
DESCRIPTION:The Women's Initiative is launching a first-ever Diversity\, Equity\, & Inclusion (DEI) Speaker Series with the purpose of celebrating diversity\, honoring local women leaders\, educating members\, and creating opportunities for role models and mentorship in the community.\n\nInaugural Guest: Laxmi Bissoondial\, Director\, Office of Multicultural Affairs\, Worcester State University\n\nModerated by: Stephanie Williams\, Chief Diversity Executive\, Mount Wachusett Community College\n\nJoin us for good food\, networking\, and conversation!\n\n5:00PM   Doors Open\n\n5:30PM   DEI Conversation with Laxmi\n\n6:30PM   Latin Dance Instruction by Ritmos Dance Studio\n\n \n\nAppetizers courtesy of Women's Initiative. Cash bar.\n\n \n\nP?arking: Pearl Elm Garage\, 20 Pearl Street ($1 after 5 PM) or street parking.
X-ALT-DESC;FMTTYPE=text/html:<p>The Women&rsquo\;s Initiative is launching a first-ever Diversity\, Equity\, &amp\; Inclusion (DEI) Speaker Series with the purpose of celebrating diversity\, honoring local women leaders\, educating members\, and creating opportunities for role models and mentorship in the community.</p>\n\n<p>Inaugural Guest: Laxmi Bissoondial\, Director\, Office of Multicultural Affairs\, Worcester State University</p>\n\n<p>Moderated by: Stephanie Williams\, Chief Diversity Executive\, Mount Wachusett Community College</p>\n\n<p>Join us for good food\, networking\, and conversation!</p>\n\n<p>5:00PM &ndash\; Doors Open</p>\n\n<p>5:30PM &ndash\; DEI Conversation with Laxmi</p>\n\n<p>6:30PM &ndash\; Latin Dance Instruction by Ritmos Dance Studio</p>\n\n<p>&nbsp\;</p>\n\n<p>Appetizers courtesy of Women&rsquo\;s Initiative. Cash bar.</p>\n\n<p>&nbsp\;</p>\n\n<p>P?arking: Pearl Elm Garage\, 20 Pearl Street ($1 after 5 PM) or street parking.</p>\n\n<p>&nbsp\;</p>\n
LOCATION:Nuestra 55 Pearl Street Worcester\, MA 01608
UID:e.2083.14915
SEQUENCE:3
DTSTAMP:20260421T143354Z
URL:https://business.cmschamber.org/events/details/tuesdays-with-wi-dei-speaker-series-kick-off-14915
END:VEVENT

END:VCALENDAR
