BEGIN:VCALENDAR
VERSION:2.0
PRODID:-//ChamberMaster//Event Calendar 2.0//EN
METHOD:PUBLISH
X-PUBLISHED-TTL:P3D
REFRESH-INTERVAL:P3D
CALSCALE:GREGORIAN
BEGIN:VEVENT
DTSTART:20230221T180000Z
DTEND:20230221T193000Z
X-MICROSOFT-CDO-ALLDAYEVENT:FALSE
SUMMARY:Understanding Facebook Business with the Meta Business Suite
DESCRIPTION:Whether you're a long-time Facebook for Business user or looking to finally get your business on Facebook or Instagram\, the new Meta Business Suite is a tool that you've got to learn to succeed in managing your social media on those platforms. And with a plethora of new tools\, menus\, and UI's\, the entire suite can be hard to use   with Facebook itself struggling to provide tutorials or support. That's where we come in!\n\nJoin social media marketers Julia Becker Collins and Catrina Gardner of Vision Advertising as they guide you through using this powerful social media tool and how to get the most out of it\, including:\n\n\n	A tour of the Meta Business Suite\, including all top-level sections.\n	Key features to understand and use for the running of your social media marketing.\n	How to use the new Inbox to manage social media comments\, reviews\, and messages.\n	Using the Posts & Stories and Planner tools to better schedule your social media posts.\n	Understanding the overview and analytics terms used in the Insight section.
X-ALT-DESC;FMTTYPE=text/html:<p>Whether you&rsquo\;re a long-time Facebook for Business user or looking to finally get your business on Facebook or Instagram\, the new Meta Business Suite is a tool that you&rsquo\;ve got to learn to succeed in managing your social media on those platforms. And with a plethora of new tools\, menus\, and UI&rsquo\;s\, the entire suite can be hard to use &ndash\; with Facebook itself struggling to provide tutorials or support. That&rsquo\;s where we come in!</p>\n\n<p>Join social media marketers Julia Becker Collins and Catrina Gardner of Vision Advertising as they guide you through using this powerful social media tool and how to get the most out of it\, including:</p>\n\n<ul>\n	<li>A tour of the Meta Business Suite\, including all top-level sections.</li>\n	<li>Key features to understand and use for the running of your social media marketing.</li>\n	<li>How to use the new Inbox to manage social media comments\, reviews\, and messages.</li>\n	<li>Using the Posts &amp\; Stories and Planner tools to better schedule your social media posts.</li>\n	<li>Understanding the overview and analytics terms used in the Insight section.</li>\n</ul>\n
LOCATION:Zoom
UID:e.2083.15047
SEQUENCE:3
DTSTAMP:20260421T075146Z
URL:https://business.cmschamber.org/events/details/understanding-facebook-business-with-the-meta-business-suite-15047
END:VEVENT

END:VCALENDAR
