BEGIN:VCALENDAR
VERSION:2.0
PRODID:-//ChamberMaster//Event Calendar 2.0//EN
METHOD:PUBLISH
X-PUBLISHED-TTL:P3D
REFRESH-INTERVAL:P3D
CALSCALE:GREGORIAN
BEGIN:VEVENT
DTSTART:20230524T160000Z
DTEND:20230524T170000Z
X-MICROSOFT-CDO-ALLDAYEVENT:FALSE
SUMMARY:Understanding The C’s of Credit
DESCRIPTION:This presentation will focus on the 5 C's of Credit and how they determine a borrower's creditworthiness. Knowing that credit analysis is governed by the 5 C's of credit\, this seminar will help strengthen your understanding of the 5 C's of Credit and its impact on you lending request. During this session we will focus on:\n\n\n	What are the 5 C's of Credit\n	The importance of each C of Credit\n	How the 5 C's impact you lending power
X-ALT-DESC;FMTTYPE=text/html:<p>This presentation will focus on the 5 C&rsquo\;s of Credit and how they determine a borrower&rsquo\;s creditworthiness. Knowing that credit analysis is governed by the 5 C&rsquo\;s of credit\, this seminar will help strengthen your understanding of the 5 C&rsquo\;s of Credit and its impact on you lending request. During this session we will focus on:</p>\n\n<ol start="1">\n	<li>What are the 5 C&rsquo\;s of Credit</li>\n	<li>The importance of each C of Credit</li>\n	<li>How the 5 C&rsquo\;s impact you lending power</li>\n</ol>\n
LOCATION:Zoom
UID:e.2083.15943
SEQUENCE:3
DTSTAMP:20260421T042435Z
URL:https://business.cmschamber.org/events/details/understanding-the-c-s-of-credit-15943
END:VEVENT

END:VCALENDAR
