BEGIN:VCALENDAR
VERSION:2.0
PRODID:-//ChamberMaster//Event Calendar 2.0//EN
METHOD:PUBLISH
X-PUBLISHED-TTL:P3D
REFRESH-INTERVAL:P3D
CALSCALE:GREGORIAN
BEGIN:VEVENT
DTSTART:20231018T160000Z
DTEND:20231018T173000Z
X-MICROSOFT-CDO-ALLDAYEVENT:FALSE
SUMMARY:Understanding Your Business Financial Statements
DESCRIPTION:You have financial statements for your business--what knowledge can you gain from them?\n\nThis workshop will provide you with the tools necessary to understand your income statement\, balance sheet and statement of cash flow\; all essential skills for operating a successful business.
X-ALT-DESC;FMTTYPE=text/html:<p>You have financial statements for your business--what knowledge can you gain from them?</p>\n\n<p>This workshop will provide you with the tools necessary to understand your income statement\, balance sheet and statement of cash flow\; all essential skills for operating a successful business.</p>\n
LOCATION:Zoom
UID:e.2083.16678
SEQUENCE:3
DTSTAMP:20260420T171154Z
URL:https://business.cmschamber.org/events/details/understanding-your-business-financial-statements-16678
END:VEVENT

END:VCALENDAR
