BEGIN:VCALENDAR
VERSION:2.0
PRODID:-//ChamberMaster//Event Calendar 2.0//EN
METHOD:PUBLISH
X-PUBLISHED-TTL:P3D
REFRESH-INTERVAL:P3D
CALSCALE:GREGORIAN
BEGIN:VEVENT
DTSTART;VALUE=DATE:20210917
DTEND;VALUE=DATE:20210918
TRANSP:TRANSPARENT
X-MICROSOFT-CDO-ALLDAYEVENT:TRUE
SUMMARY:United Way Day of Caring
DESCRIPTION:JOIN United Way of CM for our annual Day of Caring which brings together hundreds of volunteers in service projects to benefit local community groups and the clients they serve.\n\nJoin us to make a difference through\n\nvolunteer projects\n\ninGreater Worcester (landscaping\,painting\, gardening\, and more).\n\nLooking for other ways to help?\n\nSupport local youth through a United Way school supply drive.\n\nQuestions?\n\nContact Patricia Learypatricia.leary@unitedwaycm.org
X-ALT-DESC;FMTTYPE=text/html:JOIN United Way of CM for our annual Day of Caring which brings together hundreds of volunteers in service projects to benefit local community groups and the clients they serve.<br />\nJoin us to make a difference through<br />\nvolunteer projects<br />\ninGreater Worcester (landscaping\,painting\, gardening\, and more).<br />\nLooking for other ways to help?<br />\nSupport local youth through a United Way school supply drive.<br />\nQuestions?<br />\nContact Patricia Learypatricia.leary@unitedwaycm.org
LOCATION:
UID:e.2083.12999
SEQUENCE:3
DTSTAMP:20260422T103716Z
URL:https://business.cmschamber.org/events/details/united-way-day-of-caring-12999
END:VEVENT

END:VCALENDAR
