BEGIN:VCALENDAR
VERSION:2.0
PRODID:-//ChamberMaster//Event Calendar 2.0//EN
METHOD:PUBLISH
X-PUBLISHED-TTL:P3D
REFRESH-INTERVAL:P3D
CALSCALE:GREGORIAN
BEGIN:VEVENT
DTSTART:20231110T170000Z
DTEND:20231110T173000Z
X-MICROSOFT-CDO-ALLDAYEVENT:FALSE
SUMMARY:Unlocking HR Success - Master the Art of Difficult Conversations with Disgruntled Employees
DESCRIPTION:About this event\n\n\n\nThe Unlocking HR Success event is a one-day virtual conference that provides a unique opportunity for Human Resources professionals to learn from leading experts in the field. The event will feature renowned speakers\, interactive discussions\, and engaging activities.\n\n\n\nParticipation requirements: - Attendees must be current business owners\, directors\, or managers\, or Human Resources professionals or those seeking to enter the field of Human Resources. - Participants must have access to a laptop\, tablet\, or other device with access to Wi-Fi.\n\n\n\nSponsors: - The Unlocking HR Success event is sponsored by Panzix Global HR Solutions - The sponsor will provide valuable insights about their products and services and will offer exclusive discounts on their products and services for attendees.\n\n\n\nFeatured Guests: - The Unlocking HR Success event will feature prominent industry leader and entrepreneur\, Nana Sarkwa (President & CEO of Panzix Global HR Solutions). - The featured guest will provide insight into the modern world of Human Resources while offering valuable advice on how to succeed in this field.
X-ALT-DESC;FMTTYPE=text/html:<h2>About this event</h2>\n\n<div>\n<div style="background:var(--rich-text-bg-color) !important\; border:0px\; padding:0px">\n<p>The Unlocking HR Success event is a one-day virtual conference that provides a unique opportunity for Human Resources professionals to learn from leading experts in the field. The event will feature renowned speakers\, interactive discussions\, and engaging activities.<br />\n<br />\n<strong>Participation requirements: </strong>- Attendees must be current business owners\, directors\, or managers\, or Human Resources professionals or those seeking to enter the field of Human Resources. - Participants must have access to a laptop\, tablet\, or other device with access to Wi-Fi.<br />\n<br />\n<strong>Sponsors</strong>: - The Unlocking HR Success event is sponsored by Panzix Global HR Solutions - The sponsor will provide valuable insights about their products and services and will offer exclusive discounts on their products and services for attendees.<br />\n<br />\n<strong>Featured Guests:</strong> - The Unlocking HR Success event will feature prominent industry leader and entrepreneur\, Nana Sarkwa (President &amp\; CEO of Panzix Global HR Solutions). - The featured guest will provide insight into the modern world of Human Resources while offering valuable advice on how to succeed in this field.</p>\n</div>\n</div>\n
LOCATION:OnZoom Webinar - Registration Required.
UID:e.2083.16711
SEQUENCE:3
DTSTAMP:20260420T154216Z
URL:https://business.cmschamber.org/events/details/unlocking-hr-success-master-the-art-of-difficult-conversations-with-disgruntled-employees-16711
END:VEVENT

END:VCALENDAR
