BEGIN:VCALENDAR
VERSION:2.0
PRODID:-//ChamberMaster//Event Calendar 2.0//EN
METHOD:PUBLISH
X-PUBLISHED-TTL:P3D
REFRESH-INTERVAL:P3D
CALSCALE:GREGORIAN
BEGIN:VEVENT
DTSTART:20210121T150000Z
DTEND:20210121T163000Z
X-MICROSOFT-CDO-ALLDAYEVENT:FALSE
SUMMARY:USING LINKEDIN TO PRODUCE MEETINGS WITH YOUR IDEAL CLIENTS
DESCRIPTION:There are 760+ million people on LinkedIn and it is going to one billion\n\nAre you leveraging this very powerful resource to engage with prospects and strategic partners?\n\n \n\nMost business people have a LinkedIn profile\, but scratch their heads and wonder what it accomplishes. This free LinkedIn Workshop teaches attendees how to transform that passive channel into a robust\, proactive lead generator\, develop new relationships and stay the course.\n\n \n\nLinkedIn is a database that is rich with prospects and strategic partners for you and will keep you in touch and top of mind. This is essential to the health of your business at this time\, like no other. Knowing how to leverage that resource can make a huge difference in your business development regardless of how successful you currently are. Learn how to get introduced to your ideal targets and connected to the kind of prospects you want through your connections on LinkedIn.\n\n\n\nREGISTER HERE\n\n \n\n	\n		\n			\n			\n			\n				\n					\n						\n						\n						What we will cover:\n\n						 \n\n						\n							How to optimize your LinkedIn profile\n							How to use LinkedIn's search to find and profile the decision makers for your ideal targets\n							How to connect and develop relationships with prospects and strategic partners\n							How to use LinkedIn to get introduced to decision makers\n							How to develop a drip campaign in just minutes per day \n							How to create a messaging campaign that works\n							How to promote events and fill seats using LinkedIn\n							When to ask for a telephone call or coffee meeting\n							How to harness discussion groups to showcase your expertise\n							How to export LinkedIn contacts to a spreadsheet and utilize that Email data for a monthly E-Newsletter\n							How just a little LinkedIn activity can lead to your prospects and strategic partners finding you\n						\n						\n						\n					\n				\n			\n			\n			\n		\n	\n\n\n\n	\n		\n			\n			\n			\n				\n					\n						\n						 \n\n						\n						Protecting the health and safety of your employees should be a first concern. Maintaining revenue is essential to protect their jobs. LinkedIn is a tool you should be utilizing to it's fullest. This is the perfect time to be sure you know how. \n\n						 \n\n						This workshop will be held in an online meeting format to encourage discussion. We will provide you with strategies for adjusting to the current environment and set your company up to recover and maintain your predictions for top-line and bottom-line growth.
X-ALT-DESC;FMTTYPE=text/html:<div style="text-align:justify"><span style="font-size:16px"><strong>There are 760+ million people on LinkedIn and it is going to one billion</strong></span></div>\n\n<div style="text-align:justify"><span style="font-size:16px"><strong>Are you leveraging this very powerful resource to engage with prospects and strategic partners?</strong></span></div>\n\n<div style="text-align:justify">&nbsp\;</div>\n\n<div><span style="font-size:14px"><span style="color:rgb(0\, 0\, 0)">Most business people have a LinkedIn profile\, but scratch their heads and wonder what it accomplishes.&nbsp\;This free&nbsp\;</span><strong><em>LinkedIn Workshop</em></strong><span style="color:rgb(0\, 0\, 0)">&nbsp\;teaches attendees how to transform that passive channel into a robust\, proactive lead generator\,&nbsp\;</span><strong>develop new relationships and stay the course</strong><span style="color:rgb(0\, 0\, 0)">.</span></span></div>\n\n<div style="text-align:justify">&nbsp\;</div>\n\n<div><span style="font-size:14px"><span style="color:rgb(0\, 0\, 0)">LinkedIn is a database that is rich with prospects and strategic partners for you and will keep you in touch and top of mind.&nbsp\;</span><strong>This is essential to the health of your business at this time\, like no other.</strong></span><span style="color:rgb(0\, 0\, 0)\; font-size:16px"><span style="font-size:14px">&nbsp\;Knowing how to leverage that resource can make a huge difference&nbsp\;in your business development regardless of how successful you currently are.&nbsp\;Learn how to get&nbsp\;introduced to your ideal targets and&nbsp\;connected to the kind of prospects&nbsp\;you want&nbsp\;through your connections&nbsp\;on LinkedIn.</span></span><br />\n<br />\n<a href="https://events.r20.constantcontact.com/register/eventReg?llr=miryb7bab&amp\;oeidk=a07ehgidq5j916e774a"><span style="color:#FFFFFF"><span style="font-size:16px"><span style="background-color:#008080">REGISTER HERE</span></span></span></a><br />\n&nbsp\;\n<table border="0" cellpadding="0" cellspacing="0" class="galileo-ap-layout-editor" style="border-collapse:collapse\; caret-color:rgb(0\, 0\, 0)\; color:rgb(0\, 0\, 0)\; min-width:100%\; table-layout:fixed\; width:100%">\n	<tbody>\n		<tr>\n			<td>\n			<div>\n			<table border="0" cellpadding="0" cellspacing="0" style="border-collapse:collapse\; min-width:100%\; table-layout:fixed\; width:100%">\n				<tbody>\n					<tr>\n						<td>\n						<div>\n						<div><span style="font-size:14px"><strong>What we will cover:</strong></span></div>\n\n						<div>&nbsp\;</div>\n\n						<ul>\n							<li style="text-align:justify"><span style="font-size:14px">How to optimize your LinkedIn profile</span></li>\n							<li style="text-align:justify"><span style="font-size:14px">How to use LinkedIn&rsquo\;s&nbsp\;search to&nbsp\;find and&nbsp\;profile&nbsp\;the decision makers for your ideal targets</span></li>\n							<li style="text-align:justify"><span style="font-size:14px">How to connect and develop relationships with prospects and strategic partners</span></li>\n							<li style="text-align:justify"><span style="font-size:14px">How to use LinkedIn to get introduced to decision makers</span></li>\n							<li style="text-align:justify"><span style="font-size:14px">How to develop a drip campaign&nbsp\;in just minutes&nbsp\;per day&nbsp\;</span></li>\n							<li style="text-align:justify"><span style="font-size:14px">How to create a messaging campaign that works</span></li>\n							<li style="text-align:justify"><span style="font-size:14px">How to promote events and fill seats using LinkedIn</span></li>\n							<li style="text-align:justify"><span style="font-size:14px">When to ask for a telephone call or coffee meeting</span></li>\n							<li style="text-align:justify"><span style="font-size:14px">How to harness discussion groups to showcase your expertise</span></li>\n							<li style="text-align:justify"><span style="font-size:14px">How to export LinkedIn contacts to a spreadsheet and utilize that Email data for a monthly E-Newsletter</span></li>\n							<li style="text-align:justify"><span style="font-size:14px">How just a little LinkedIn activity can lead to your prospects and strategic partners finding you</span></li>\n						</ul>\n						</div>\n						</td>\n					</tr>\n				</tbody>\n			</table>\n			</div>\n			</td>\n		</tr>\n	</tbody>\n</table>\n\n<table border="0" cellpadding="0" cellspacing="0" class="galileo-ap-layout-editor" style="border-collapse:collapse\; caret-color:rgb(0\, 0\, 0)\; color:rgb(0\, 0\, 0)\; min-width:100%\; table-layout:fixed\; width:100%">\n	<tbody>\n		<tr>\n			<td>\n			<div>\n			<table border="0" cellpadding="0" cellspacing="0" style="border-collapse:collapse\; min-width:100%\; table-layout:fixed\; width:100%">\n				<tbody>\n					<tr>\n						<td>\n						<div>&nbsp\;</div>\n\n						<div>\n						<div><span style="font-size:14px"><span style="color:rgb(30\, 30\, 30)">Protecting the health and safety of your employees should be a first concern.&nbsp\;</span><strong>Maintaining revenue is essential to protect their jobs</strong><span style="color:rgb(30\, 30\, 30)">. LinkedIn is a tool you should be utilizing to it&#39\;s fullest. This is the perfect time to be sure you know how.&nbsp\;</span></span></div>\n\n						<div>&nbsp\;</div>\n\n						<div><span style="font-size:14px"><span style="color:rgb(30\, 30\, 30)">This workshop will be held in an online meeting format to encourage discussion. We will provide you with strategies for adjusting to the current environment and set your company up to recover and&nbsp\;</span><strong>maintain your predictions for top-line and bottom-line growth.</strong></span></div>\n						</div>\n						</td>\n					</tr>\n				</tbody>\n			</table>\n			</div>\n			</td>\n		</tr>\n	</tbody>\n</table>\n</div>\n
LOCATION:Online event
UID:e.2083.12471
SEQUENCE:3
DTSTAMP:20260422T224358Z
URL:https://business.cmschamber.org/events/details/using-linkedin-to-produce-meetings-with-your-ideal-clients-01-21-2021-12471
END:VEVENT

END:VCALENDAR
