BEGIN:VCALENDAR
VERSION:2.0
PRODID:-//ChamberMaster//Event Calendar 2.0//EN
METHOD:PUBLISH
X-PUBLISHED-TTL:P3D
REFRESH-INTERVAL:P3D
CALSCALE:GREGORIAN
BEGIN:VEVENT
DTSTART;VALUE=DATE:20240214
DTEND;VALUE=DATE:20240215
TRANSP:TRANSPARENT
X-MICROSOFT-CDO-ALLDAYEVENT:TRUE
SUMMARY:Valentine's Day Card Drive
DESCRIPTION:This Valentine's Day\, let's spread love and joy to the hearts that have loved the longest! ??\n\nSenior Helpers of Worcester invites you to be a part of our "Dear Senior Valentine's Day Card Drive." Our goal is to present over 500 cards to the seniors at Worcester area Senior Centers.\n\nHow Can You Help?\n\n	Craft a heartwarming card or two addressed to 'Dear Senior'.\n	Drop off or mail your card(s) by February 9th addressed to 'Dear Senior' using the following address:\n\n405 Grove Street\, Suite 303\, Worcester\, MA\, 01605\n\nContact us for More Information. 508.425.4909 www.seniorhelpers.com/ma/worcester.\n\nEvery card counts in bringing a smile to a senior's face  Let's make this Valentine's Day special for our community's cherished seniors! ??\n\nWarm regards\,\n\n \n\nSenior Helpers of Worcester!\n\n \n\n*********************************************************************************************************************************************\n\nSenior Helpers Valentine's Day Drive:\n\n \n\n According to the U.S. Surgeon General\, there is a loneliness and isolation epidemic in our country.\n\nRoughly 1 in 3 seniors:\n\nFeel isolated.\n\nFeel a lack of companionship.\n\nHave infrequent social contact.\n\nThe physical health consequences of poor or insufficient connection include:\n\n29% increased risk of heart disease\n\n32% increased risk of stroke\n\n50% increased risk of developing dementia for older adults\n\nLacking social connection increases the risk of premature death by more than 60%.\n\nSenior Helpers has the chance to assist with this and show our seniors some extra love this Valentine's Day!\n\nWhat better way to create awareness around the effects of loneliness and isolation for seniors than sharing a simple way we can spread the love.
X-ALT-DESC;FMTTYPE=text/html:This Valentine&#39\;s Day\, let&#39\;s spread love and joy to the hearts that have loved the longest! <span style="font-family:segoe ui emoji\,sans-serif">??</span><br />\nSenior Helpers of Worcester invites you to be a part of our &quot\;Dear Senior Valentine&rsquo\;s Day Card Drive.&quot\; Our goal is to present over 500 cards to the seniors at Worcester area Senior Centers.<br />\nHow Can You Help?\n<ul>\n	<li>Craft a heartwarming card or two addressed to &#39\;Dear Senior&#39\;.</li>\n	<li>Drop off or mail your card(s) by February 9th addressed to &#39\;Dear Senior&#39\; using the following address:</li>\n</ul>\n405 Grove Street\, Suite 303\, Worcester\, MA\, 01605<br />\nContact us for More Information. 508.425.4909 <a href="http://www.seniorhelpers.com/ma/worcester">www.seniorhelpers.com/ma/worcester</a>.<br />\nEvery card counts in bringing a smile to a senior&#39\;s face&mdash\; Let&#39\;s make this Valentine&#39\;s Day special for our community&#39\;s cherished seniors! <span style="font-family:segoe ui emoji\,sans-serif">??</span><br />\nWarm regards\,<br />\n&nbsp\;<br />\nSenior Helpers of Worcester!<br />\n&nbsp\;<br />\n*********************************************************************************************************************************************<br />\nSenior Helpers Valentine&#39\;s Day Drive:<br />\n&nbsp\;<br />\n&nbsp\;According to the U.S. Surgeon General\, there is a loneliness and isolation epidemic in our country.<br />\nRoughly 1 in 3 seniors:<br />\nFeel isolated.<br />\nFeel a lack of companionship.<br />\nHave infrequent social contact.<br />\nThe physical health consequences of poor or insufficient connection include:<br />\n29% increased risk of heart disease<br />\n32% increased risk of stroke<br />\n50% increased risk of developing dementia for older adults<br />\nLacking social connection increases the risk of premature death by more than 60%.<br />\nSenior Helpers has the chance to assist with this and show our seniors some extra love this Valentine&#39\;s Day!<br />\nWhat better way to create awareness around the effects of loneliness and isolation for seniors than sharing a simple way we can spread the love.<br />\n&nbsp\;
LOCATION:405 Grove Street\, Suite 303\, Worcester MA 01605.
UID:e.2083.17260
SEQUENCE:3
DTSTAMP:20260420T102713Z
URL:https://business.cmschamber.org/events/details/valentine-s-day-card-drive-17260
END:VEVENT

END:VCALENDAR
