BEGIN:VCALENDAR
VERSION:2.0
PRODID:-//ChamberMaster//Event Calendar 2.0//EN
METHOD:PUBLISH
X-PUBLISHED-TTL:P3D
REFRESH-INTERVAL:P3D
CALSCALE:GREGORIAN
BEGIN:VEVENT
DTSTART:20200216T150000Z
DTEND:20200216T161500Z
X-MICROSOFT-CDO-ALLDAYEVENT:FALSE
SUMMARY:Valentine's Yoga: Heart Opening Yoga with Essential Oils at Worcester Fitness
DESCRIPTION:Valentine's Yoga:  Heart Opening Yoga with Essential Oils\n\nwith Mary Beth Woodward at Worcester Fitness\n\nSunday\, February 16th\n\n10:00 am -11:15 am with refreshments to follow\n\n$10.00 for members and guests\n\n\n\nThis unique and special class for those looking to make a deeper connection with ourselves\, and each other.  As you practice heart opening in your physical body\, you can also experience an opening of the heart in your thoughts and emotions. This class is designed to open your chest\, shoulders and heart.  Come enjoy this relaxing practice combined  with essential oils to pamper your sense of smell and experience connection on a deeper level.  All levels welcome. Bring a yoga mat\, a blanket for comfort and a pillow. \n\n\n\nRegister: http://clients.mindbodyonline.com/classic/ws?studioid=40367&stype=43&prodid=11360\n\nQuestions: Andy Sharry\, andy@worcesterfitness.com
X-ALT-DESC;FMTTYPE=text/html:<strong><span style="color:#FF0000">Valentine&#39\;s Yoga:&nbsp\; Heart Opening Yoga with Essential Oils</span></strong><br />\nwith Mary Beth Woodward at Worcester Fitness<br />\nSunday\, February 16th<br />\n10:00 am -11:15 am with refreshments to follow<br />\n$10.00 for members and guests<br />\n<br />\n<span style="background-color:rgb(255\, 255\, 255)\; font-family:arial\,sans-serif\; font-size:12.8px">This unique and special class for those looking to make a deeper connection with ourselves\, and each other.&nbsp\; As you practice heart opening in your physical body\, you can also experience an opening of the heart in your thoughts and emotions. This class is designed to open your chest\, shoulders and heart.&nbsp\; Come enjoy this relaxing practice combined &nbsp\;with essential oils to pamper your sense of smell and experience connection on a deeper level.&nbsp\; All levels welcome.&nbsp\;Bring a&nbsp\;yoga&nbsp\;mat\, a blanket for comfort and a pillow.&nbsp\;</span><br />\n<br />\nRegister: http://clients.mindbodyonline.com/classic/ws?studioid=40367&amp\;stype=43&amp\;prodid=11360<br />\nQuestions: Andy Sharry\, andy@worcesterfitness.com
LOCATION:Worcester Fitness 440 Grove Street Worcester\, MA 01605 (508)852-8209
UID:e.2083.11792
SEQUENCE:3
DTSTAMP:20260423T145114Z
URL:https://business.cmschamber.org/events/details/valentine-s-yoga-heart-opening-yoga-with-essential-oils-at-worcester-fitness-11792
END:VEVENT

END:VCALENDAR
