BEGIN:VCALENDAR
VERSION:2.0
PRODID:-//ChamberMaster//Event Calendar 2.0//EN
METHOD:PUBLISH
X-PUBLISHED-TTL:P3D
REFRESH-INTERVAL:P3D
CALSCALE:GREGORIAN
BEGIN:VEVENT
DTSTART:20230421T130000Z
DTEND:20230421T160000Z
X-MICROSOFT-CDO-ALLDAYEVENT:FALSE
SUMMARY:Vernon Hill Community Cleanup
DESCRIPTION:Join the Worcester Green Corps and volunteers from Santander Bank as we beautify the Vernon Hill neighborhood! All supplies will be provided\, just come dressed for the weather and ready to work for a good cause!
X-ALT-DESC;FMTTYPE=text/html:Join the Worcester Green Corps and volunteers from Santander Bank as we beautify the Vernon Hill neighborhood! All supplies will be provided\, just come dressed for the weather and ready to work for a good cause!
LOCATION:We will be meeting at the parking lot for Vernon Hill Park off of Ames Street. There is ample free parking available here.
UID:e.2083.15922
SEQUENCE:3
DTSTAMP:20260421T042154Z
URL:https://business.cmschamber.org/events/details/vernon-hill-community-cleanup-15922
END:VEVENT

END:VCALENDAR
