BEGIN:VCALENDAR
VERSION:2.0
PRODID:-//ChamberMaster//Event Calendar 2.0//EN
METHOD:PUBLISH
X-PUBLISHED-TTL:P3D
REFRESH-INTERVAL:P3D
CALSCALE:GREGORIAN
BEGIN:VEVENT
DTSTART:20231111T133000Z
DTEND:20231111T160000Z
X-MICROSOFT-CDO-ALLDAYEVENT:FALSE
SUMMARY:Veterans Day Pancake Breakfast and Parade
DESCRIPTION:JOIN US FOR A VETERANS DAY PANCAKE BREAKFAST & PARADE!\n\n\n\n\n\nVeterans Inc. will host our annual Veterans' Day Pancake Breakfast at our headquarters in Worcester\, located at 69 Grove Street. The breakfast will begin at 8:30 am and run until 11:00 am on Veterans' Day\, Saturday\, November 11th. The breakfast is free and open to the public.\n\n11 November\, 2023   \n\nBreakfast runs from 8:30 am- 11 am\n\nParade Details- The Veterans Day Parade will begin at Bean Counter on North St. Worcester and will finish at Lincoln Square (WWI Memorial). Download Parade Flyer\n\nIf you are interested in participating in the parade please contact Sully Roberts. SullyRoberts@veteransinc.org
X-ALT-DESC;FMTTYPE=text/html:<div style="background:rgb(244\, 244\, 244)\; border:0px\; padding:0px">\n<div style="background:transparent\; border:0px\; margin-left:auto\; margin-right:auto\; padding:0px">\n<h3 style="margin-left:0px\; margin-right:0px"><strong>JOIN US FOR A VETERANS DAY PANCAKE BREAKFAST &amp\; PARADE!</strong></h3>\n</div>\n</div>\n\n<div style="background:rgb(244\, 244\, 244)\; border:0px\; padding:0px">\n<div style="background:transparent\; border:0px\; margin-left:auto\; margin-right:auto\; padding:0px">\n<p>Veterans Inc. will host our annual Veterans&rsquo\; Day Pancake Breakfast at our headquarters in Worcester\, located at 69 Grove Street. The breakfast will begin at 8:30 am and run until 11:00 am on Veterans&rsquo\; Day\, Saturday\, November 11<span style="font-size:10px">th</span>. The breakfast is free and open to the public.</p>\n\n<p><strong>11 November\, 2023&nbsp\; &nbsp\;</strong></p>\n\n<p><strong>Breakfast runs from 8:30 am- 11 am</strong></p>\n\n<p><em><strong>Parade Details-&nbsp\;</strong>The Veterans Day Parade will begin at Bean Counter on North St. Worcester and will finish at Lincoln Square (WWI Memorial).&nbsp\;<a href="https://www.veteransinc.org/wp-content/uploads/2023/10/threat_extracted_pdf_Worcester_Veterans-Day_2023.pdf" style="box-sizing: border-box\; margin-top: 0px\; margin-right: 0px\; margin-left: 0px\; padding: 0px\; border: 0px\; outline: 0px\; vertical-align: baseline\; background: transparent\; text-decoration-line: none\; color: rgb(187\, 19\, 62)\; margin-bottom: 0px !important\;">Download Parade Flyer</a></em></p>\n\n<p style="margin-left:0px\; margin-right:0px">If you are interested in participating in the parade please contact Sully Roberts.&nbsp\;<a href="mailto:SullyRoberts@veteransinc.org" style="box-sizing: border-box\; margin-top: 0px\; margin-right: 0px\; margin-left: 0px\; padding: 0px\; border: 0px\; outline: 0px\; vertical-align: baseline\; background: transparent\; text-decoration-line: none\; color: rgb(187\, 19\, 62)\; margin-bottom: 0px !important\;">SullyRoberts@veteransinc.org</a>&nbsp\;</p>\n</div>\n</div>\n
LOCATION:Veterans Inc. 69 Grove St. Worcester\, MA
UID:e.2083.16713
SEQUENCE:3
DTSTAMP:20260420T153948Z
URL:https://business.cmschamber.org/events/details/veterans-day-pancake-breakfast-and-parade-16713
END:VEVENT

END:VCALENDAR
