BEGIN:VCALENDAR
VERSION:2.0
PRODID:-//ChamberMaster//Event Calendar 2.0//EN
METHOD:PUBLISH
X-PUBLISHED-TTL:P3D
REFRESH-INTERVAL:P3D
CALSCALE:GREGORIAN
BEGIN:VEVENT
DTSTART:20240328T213000Z
DTEND:20240328T233000Z
X-MICROSOFT-CDO-ALLDAYEVENT:FALSE
SUMMARY:Virtual Financial Capability Workshop (March 2024)
DESCRIPTION:Need help managing your finances? Interested in developing a sustainable spending plan? At this workshop you will learn about managing personal finances and be empowered to make better decisions in order to achieve financial stability for yourself and your family!
X-ALT-DESC;FMTTYPE=text/html:Need help managing your finances? Interested in developing a sustainable spending plan? At this workshop you will learn about managing personal finances and be empowered to make better decisions in order to achieve financial stability for yourself and your family!
LOCATION:Online
UID:e.2083.17139
SEQUENCE:3
DTSTAMP:20260420T090158Z
URL:https://business.cmschamber.org/events/details/virtual-financial-capability-workshop-march-2024-17139
END:VEVENT

END:VCALENDAR
