BEGIN:VCALENDAR
VERSION:2.0
PRODID:-//ChamberMaster//Event Calendar 2.0//EN
METHOD:PUBLISH
X-PUBLISHED-TTL:P3D
REFRESH-INTERVAL:P3D
CALSCALE:GREGORIAN
BEGIN:VEVENT
DTSTART:20231130T223000Z
DTEND:20231201T003000Z
X-MICROSOFT-CDO-ALLDAYEVENT:FALSE
SUMMARY:Virtual Financial Capability Workshop (November 2023)
DESCRIPTION:Need help managing your finances? Interested in developing a sustainable spending plan? At this workshop you will learn about managing personal finances and be empowered to make better decisions in order to achieve financial stability for yourself and your family!
X-ALT-DESC;FMTTYPE=text/html:Need help managing your finances? Interested in developing a sustainable spending plan? At this workshop you will learn about managing personal finances and be empowered to make better decisions in order to achieve financial stability for yourself and your family!
LOCATION:Online
UID:e.2083.16686
SEQUENCE:3
DTSTAMP:20260420T153817Z
URL:https://business.cmschamber.org/events/details/virtual-financial-capability-workshop-november-2023-16686
END:VEVENT

END:VCALENDAR
