BEGIN:VCALENDAR
VERSION:2.0
PRODID:-//ChamberMaster//Event Calendar 2.0//EN
METHOD:PUBLISH
X-PUBLISHED-TTL:P3D
REFRESH-INTERVAL:P3D
CALSCALE:GREGORIAN
BEGIN:VEVENT
DTSTART:20211027T220000Z
DTEND:20211028T000000Z
X-MICROSOFT-CDO-ALLDAYEVENT:FALSE
SUMMARY:Virtual First-Time Home Buyers Seminars
DESCRIPTION:Those thinking about buying their first home will find out the steps needed to achieve home ownership\, including how to find a first home\, why good credit is important for financing and what types of first-time home buyer mortgages and programs are available. Those who attend this seminar and take a mortgage with RTN will receive a $250 closing cost credit.
X-ALT-DESC;FMTTYPE=text/html:<span style="color:rgb(0\, 0\, 0)\; font-family:helvetica w01 roman\,sans-serif">Those thinking about buying their first home will find out the steps needed to achieve home ownership\, including how to find a first home\, why good credit is important for financing and what types of first-time home buyer mortgages and programs are available. Those who attend this seminar and take a mortgage with RTN will receive a $250 closing cost credit.</span>
LOCATION:Virtual - Zoom
UID:e.2083.13024
SEQUENCE:3
DTSTAMP:20260422T090452Z
URL:https://business.cmschamber.org/events/details/virtual-first-time-home-buyers-seminars-10-27-2021-13024
END:VEVENT

END:VCALENDAR
