BEGIN:VCALENDAR
VERSION:2.0
PRODID:-//ChamberMaster//Event Calendar 2.0//EN
METHOD:PUBLISH
X-PUBLISHED-TTL:P3D
REFRESH-INTERVAL:P3D
CALSCALE:GREGORIAN
BEGIN:VEVENT
DTSTART:20211028T160000Z
DTEND:20211028T164500Z
X-MICROSOFT-CDO-ALLDAYEVENT:FALSE
SUMMARY:Virtual Lunch & Learn - Telephone Systems: From Landlines to Cloud Solutions
DESCRIPTION:Telephone Systems: From Landlines to Cloud Solutions\n\nTelephone technology has grown in leaps and bounds since operators sat at a switchboard connecting calls. The shift to cloud solutions and the ability to utilize internet broadband means that we can share more than just voice communications via these new Unified Communication Systems. Everything from video conferencing\, file sharing\, text messages\, and yes\, even faxes\, can now be done with ease on these new platforms.\n\nThe technology helps businesses support a remote or hybrid workforce\, streamlines and improves customer service and includes valuable tools to optimize business operations.\n\nHear from three industry experts as they talk about the differences between landlines and cloud solutions\, what it takes to make the switch and what questions you should be asking when looking to design the communication system that makes sense for your business\, and budget.\n\nGUESTS:\n\nBob Triscari has been in the Telecommunications field since 1982 as a Sales Engineer\, Project Manager\, End User Trainer with Nynex. Since 1986\, Bob been a Channel Manager with Tie/Communications\, Toshiba America and NEC America.\n\nScott Pawlowski has 25 years in the telecommunications industry. Scott joined Connectivity Point in 2009 as a Cabling Technician and moved into the role of Sales Engineer in 2011. As Manager of Telephony Systems\, Scott estimates new telecommunication projects\, helps coordinate all phone system installations and service calls for Connectivity Point clients. He holds certification in Mitel\, NEC\, Allworx.\n\nBill Mitchell has been in the telecommunications industry since 1979\, learning communications in the US Navy. In 1991\, Bill co-founded Business Communications Systems Inc in Worcester\, MA\, performing in technical\, estimating\, and sales engineering and design roles. After 29 years in business\, BCS was acquired by Connectivity Point\, where Bill is serving as a telephony subject matter expert.
X-ALT-DESC;FMTTYPE=text/html:<h1>Telephone Systems: From Landlines to Cloud Solutions</h1>\n\n<p>Telephone technology has grown in leaps and bounds since operators sat at a switchboard connecting calls. The shift to cloud solutions and the ability to utilize internet broadband means that we can share more than just voice communications via these new Unified Communication Systems. Everything from video conferencing\, file sharing\, text messages\, and yes\, even faxes\, can now be done with ease on these new platforms.</p>\n\n<p>The technology helps businesses support a remote or hybrid workforce\, streamlines and improves customer service and includes valuable tools to optimize business operations.</p>\n\n<p>Hear from three industry experts as they talk about the differences between landlines and cloud solutions\, what it takes to make the switch and what questions you should be asking when looking to design the communication system that makes sense for your business\, and budget.</p>\n\n<p><strong>GUESTS:</strong></p>\n\n<p><strong>Bob Triscari</strong>&nbsp\;has been in the Telecommunications field since 1982 as a Sales Engineer\, Project Manager\, End User Trainer with Nynex. Since 1986\, Bob been a Channel Manager with Tie/Communications\, Toshiba America and NEC America.</p>\n\n<p><strong>Scott Pawlowski</strong>&nbsp\;has 25 years in the telecommunications industry. Scott joined Connectivity Point in 2009 as a Cabling Technician and moved into the role of Sales Engineer in 2011. As Manager of Telephony Systems\, Scott estimates new telecommunication projects\, helps coordinate all phone system installations and service calls for Connectivity Point clients. He holds certification in Mitel\, NEC\, Allworx.</p>\n\n<p><strong>Bill Mitchell</strong>&nbsp\;has been in the telecommunications industry since 1979\, learning communications in the US Navy. In 1991\, Bill co-founded Business Communications Systems Inc in Worcester\, MA\, performing in technical\, estimating\, and sales engineering and design roles. After 29 years in business\, BCS was acquired by Connectivity Point\, where Bill is serving as a telephony subject matter expert.</p>\n
LOCATION:Virtual Event: Telephone Systems: From Landlines to Cloud Solutions Tickets\, Thu\, Oct 28\, 2021 at 12:00 PM | Eventbrite
UID:e.2083.13589
SEQUENCE:3
DTSTAMP:20260422T074935Z
URL:https://business.cmschamber.org/events/details/virtual-lunch-learn-telephone-systems-from-landlines-to-cloud-solutions-13589
END:VEVENT

END:VCALENDAR
