BEGIN:VCALENDAR
VERSION:2.0
PRODID:-//ChamberMaster//Event Calendar 2.0//EN
METHOD:PUBLISH
X-PUBLISHED-TTL:P3D
REFRESH-INTERVAL:P3D
CALSCALE:GREGORIAN
BEGIN:VEVENT
DTSTART:20240207T170000Z
DTEND:20240207T183000Z
X-MICROSOFT-CDO-ALLDAYEVENT:FALSE
SUMMARY:Visioning for Entrepreneurs
DESCRIPTION:If you're contemplating entrepreneurship\, this is the first step in turning your dreams of owning your own business into a reality! \n\n During this hands on and interactive workshop\, you will:\n\n\n	Explore the challenges and rewards of self-employment\n	Build definition around your business concept\n	Consider your short- and long-term goals\n\n\nPlease arrive with some paper & pen and ready to interact.
X-ALT-DESC;FMTTYPE=text/html:<p><span style="font-size:12pt">If you&rsquo\;re contemplating entrepreneurship\, this is the first step in turning your dreams of owning your own business into a reality!&nbsp\;</span></p>\n\n<p><span style="font-size:12pt">&nbsp\;During this hands on and interactive workshop\, you will:</span></p>\n\n<ul style="list-style-type:undefined">\n	<li><span style="font-size:12pt">Explore the challenges and rewards of self-employment</span></li>\n	<li><span style="font-size:12pt">Build definition around your business concept</span></li>\n	<li><span style="font-size:12pt">Consider your short- and long-term goals</span></li>\n</ul>\n\n<p><span style="font-size:12pt">Please arrive with some paper &amp\; pen and ready to interact.&nbsp\;</span></p>\n
LOCATION:Virtual
UID:e.2083.17241
SEQUENCE:3
DTSTAMP:20260420T102705Z
URL:https://business.cmschamber.org/events/details/visioning-for-entrepreneurs-02-07-2024-17241
END:VEVENT

END:VCALENDAR
