BEGIN:VCALENDAR
VERSION:2.0
PRODID:-//ChamberMaster//Event Calendar 2.0//EN
METHOD:PUBLISH
X-PUBLISHED-TTL:P3D
REFRESH-INTERVAL:P3D
CALSCALE:GREGORIAN
BEGIN:VEVENT
DTSTART:20231123T123000Z
DTEND:20231123T160000Z
X-MICROSOFT-CDO-ALLDAYEVENT:FALSE
SUMMARY:Volunteer Opportunity - Bishop's Dinner Thanksgiving Meal Delivery
DESCRIPTION:Volunteers are needed for meal delivery and the sit-down dinner on Thanksgiving!\n\n\n\nEach year\, with the help of thousands of volunteers\, we deliver and serve meals on both Thanksgiving and Christmas to housebound elders\, individuals with disabilities\, individuals experiencing homelessness\, and those who may otherwise go without a holiday meal.\n\n\n\n\nVolunteers should arrive any time between 7:30 AM to 8:00 AM to pick up their meal delivery route. Volunteers will pick up their delivery route and packaged meals drive-through style from St. Peter's Catholic Elementary School\, so they will not need to exit their vehicle.
X-ALT-DESC;FMTTYPE=text/html:<div>\n<div>\n<div>\n<p><strong>Volunteers are needed for meal delivery and the sit-down dinner on Thanksgiving!</strong><br />\n<br />\nEach year\, with the help of thousands of volunteers\, we deliver and serve meals on both Thanksgiving and Christmas to housebound elders\, individuals with disabilities\, individuals experiencing homelessness\, and those who may otherwise go without a holiday meal.</p>\n</div>\n</div>\n</div>\n\n<div>Volunteers should arrive any time between 7:30 AM to 8:00 AM to pick up their meal delivery route. Volunteers will pick up their delivery route and packaged meals drive-through style from St. Peter&rsquo\;s Catholic Elementary School\, so they will not need to exit their vehicle.</div>\n
LOCATION:Entrance Location: St. Peter's Catholic Elementary School 10 Hammond Street Worcester\, MA 01610 Volunteers will pick up their delivery route and packaged meals drive-through style so they will not need to exit their vehicle.
UID:e.2083.16690
SEQUENCE:3
DTSTAMP:20260420T154215Z
URL:https://business.cmschamber.org/events/details/volunteer-opportunity-bishop-s-dinner-thanksgiving-meal-delivery-16690
END:VEVENT

END:VCALENDAR
