BEGIN:VCALENDAR
VERSION:2.0
PRODID:-//ChamberMaster//Event Calendar 2.0//EN
METHOD:PUBLISH
X-PUBLISHED-TTL:P3D
REFRESH-INTERVAL:P3D
CALSCALE:GREGORIAN
BEGIN:VEVENT
DTSTART:20231205T230000Z
DTEND:20231206T020000Z
X-MICROSOFT-CDO-ALLDAYEVENT:FALSE
SUMMARY:Wachusett Area Chamber Annual Holiday Gathering
DESCRIPTION:Tuesday\, December 5\, 2023\n\n6:00 - 9:00 PM\n\nTatnuck Country Club\n\n1222 Pleasant Street\, Worcester\n\n\n\nEvent Sponsor\n\nMiles Funeral Homes\n\nEntertainment Sponsor\n\nJ. R. Prunier Capital Management\n\nDinner Buffet / Cash Bar\n\nMusic by Rick Zinkus \n\n\n\nGuests are encouraged to bring a wrapped gift ($20 limit) to swap.  This year's gift theme is "My Favorite Things"  One per person.\n\n\n\nHoliday Attire / $65 per person
X-ALT-DESC;FMTTYPE=text/html:<p><br />\n<strong>Tuesday\, December 5\, 2023<br />\n6:00 - 9:00 PM</strong></p>\n\n<p><strong>Tatnuck Country Club<br />\n1222 Pleasant Street\, Worcester</strong><br />\n<br />\n<em>Event Sponsor</em><br />\n<strong>Miles Funeral Homes</strong></p>\n\n<p><em>Entertainment Sponsor</em><br />\n<strong>J. R. Prunier Capital Management</strong></p>\n\n<p><strong>Dinner Buffet / Cash Bar</strong><br />\n<em>Music by Rick Zinkus&nbsp\;</em><br />\n<br />\nGuests are encouraged to bring a wrapped gift ($20 limit) to swap. &nbsp\;This year&#39\;s gift theme is &quot\;<strong>My Favorite Things</strong>&quot\;&nbsp\; One per person.<br />\n<br />\n<strong>Holiday Attire / $65 per person</strong></p>\n
LOCATION:Tatnuck Country Club\, 1222 Pleasant Street\, Worcester
UID:e.2083.9423
SEQUENCE:3
DTSTAMP:20260420T135024Z
URL:https://business.cmschamber.org/events/details/wachusett-area-chamber-annual-holiday-gathering-9423
END:VEVENT

END:VCALENDAR
