BEGIN:VCALENDAR
VERSION:2.0
PRODID:-//ChamberMaster//Event Calendar 2.0//EN
METHOD:PUBLISH
X-PUBLISHED-TTL:P3D
REFRESH-INTERVAL:P3D
CALSCALE:GREGORIAN
BEGIN:VEVENT
DTSTART:20220516T213000Z
DTEND:20220516T233000Z
X-MICROSOFT-CDO-ALLDAYEVENT:FALSE
SUMMARY:Wachusett Area Chamber Business After Hours
DESCRIPTION:Monday\, May 16\, 2022\n\n5:30 - 7:30 pm\n\nMexicali Cantina Grill\n\n700 Main Street\, Holden\n\nSponsored by\n\nCornerstone Bank\n\n\n\n\n\n$15 Pre-Registered Chamber Members\; $20 at the Door\n\n$25 Pre-Registered Non-Members\; $30 at the Door\n\nTo register visit: http://www.wachusettareachamber.org
X-ALT-DESC;FMTTYPE=text/html:<h2 style="font-style:italic\;">&nbsp\;</h2>\n\n<p><strong>Monday\, May 16\, 2022</strong></p>\n\n<p><strong>5:30 - 7:30 pm</strong></p>\n\n<p><strong>Mexicali Cantina Grill</strong></p>\n\n<p><strong>700 Main Street\, Holden</strong></p>\n\n<p><span style="font-size:14px\;"><em><strong><span style="font-size:16px\;">Sponsored by</span></strong></em></span></p>\n\n<p><span style="font-size:14px\;"><em><strong><span style="font-size:16px\;">Cornerstone Bank</span></strong></em></span><br />\n<br />\n<br />\n<span background-color:="" font-size:="" style="color: rgb(51\, 51\, 51)\; font-family: sans-serif\, Arial\, Verdana\, " trebuchet="">$15 Pre-Registered Chamber Members\; $20 at the Door</span><br font-size:="" style="color: rgb(51\, 51\, 51)\; font-family: sans-serif\, Arial\, Verdana\, " trebuchet="" />\n<span background-color:="" font-size:="" style="color: rgb(51\, 51\, 51)\; font-family: sans-serif\, Arial\, Verdana\, " trebuchet="">$25 Pre-Registered Non-Members\; $30 at the Door</span><br />\n<span style="font-size:14px\;"><em><strong>To register visit: <a href="http://www.wachusettareachamber.org">http://www.wachusettareachamber.org</a></strong></em></span></p>\n
LOCATION:Mexicali Cantina Grill 700 Main Street\, Holden\, MA
UID:e.2083.11752
SEQUENCE:3
DTSTAMP:20260421T233532Z
URL:https://business.cmschamber.org/events/details/wachusett-area-chamber-business-after-hours-04-25-2022-11752
END:VEVENT

END:VCALENDAR
