BEGIN:VCALENDAR
VERSION:2.0
PRODID:-//ChamberMaster//Event Calendar 2.0//EN
METHOD:PUBLISH
X-PUBLISHED-TTL:P3D
REFRESH-INTERVAL:P3D
CALSCALE:GREGORIAN
BEGIN:VEVENT
DTSTART:20191119T223000Z
DTEND:20191120T003000Z
X-MICROSOFT-CDO-ALLDAYEVENT:FALSE
SUMMARY:Wachusett Area Chamber Business After Hours
DESCRIPTION:This fun event offers networking\, appetizers\, a cash bar and door prizes. \n\nSponsored by\n\nWindow Designs\, Etc.
X-ALT-DESC;FMTTYPE=text/html:<p><span style="font-family: times new roman\;"><span style="font-size: 14px\;">This fun event offers networking\, appetizers\, a cash bar and door prizes.&nbsp\;</span></span></p>\n\n<p><em font-size:="" new="" style="font-family: " times="">Sponsored by</em><br />\n<span style="font-size: 18px\;"><b><i>Window Designs\, Etc.</i></b></span></p>\n
LOCATION:The Wong Dynasty\, 176 Reservoir Street\, Holden
UID:e.2083.11632
SEQUENCE:3
DTSTAMP:20260423T211803Z
URL:https://business.cmschamber.org/events/details/wachusett-area-chamber-business-after-hours-11632
END:VEVENT

END:VCALENDAR
