BEGIN:VCALENDAR
VERSION:2.0
PRODID:-//ChamberMaster//Event Calendar 2.0//EN
METHOD:PUBLISH
X-PUBLISHED-TTL:P3D
REFRESH-INTERVAL:P3D
CALSCALE:GREGORIAN
BEGIN:VEVENT
DTSTART:20211122T223000Z
DTEND:20211123T003000Z
X-MICROSOFT-CDO-ALLDAYEVENT:FALSE
SUMMARY:Wachusett Area Chamber Business After Hours
DESCRIPTION:Let's kick-off Thanksgiving Week in a big way!\n\n\n\nMonday\, November 22\, 2021\n\n5:30 - 7:30pm\n\nSpecialty Sandwich Company Bar & Grille\, Holden\n\n\n\n\n\nSponsored by\n\nSERVPRO of Worcester\n\n\n\nAppetizers\, cash bar\, door prizes\, 50/50 raffle!
X-ALT-DESC;FMTTYPE=text/html:<p><span style="font-family: times new roman\;"><span style="font-size: 14px\;">Let&#39\;s kick-off Thanksgiving Week in a big way!<br />\n<br />\nMonday\, November 22\, 2021<br />\n5:30 - 7:30pm</span></span><br />\nSpecialty Sandwich Company Bar &amp\; Grille\, Holden<br />\n<br />\n<br />\n<em font-size:="" new="" times="">Sponsored by</em></p>\n\n<p><span style="font-size: 18px\;"><b><i>SERVPRO of Worcester<br />\n<br />\n<span style="font-size:14px\;">Appetizers\, cash bar\, door prizes\, 50/50 raffle!</span></i></b></span><br />\n<br />\n<br />\n&nbsp\;</p>\n
LOCATION:Specialty Sandwich Company Bar & Grille 624 Main Street\, Holden
UID:e.2083.13047
SEQUENCE:3
DTSTAMP:20260422T075229Z
URL:https://business.cmschamber.org/events/details/wachusett-area-chamber-business-after-hours-13047
END:VEVENT

END:VCALENDAR
