BEGIN:VCALENDAR
VERSION:2.0
PRODID:-//ChamberMaster//Event Calendar 2.0//EN
METHOD:PUBLISH
X-PUBLISHED-TTL:P3D
REFRESH-INTERVAL:P3D
CALSCALE:GREGORIAN
BEGIN:VEVENT
DTSTART:20200324T213000Z
DTEND:20200324T233000Z
X-MICROSOFT-CDO-ALLDAYEVENT:FALSE
SUMMARY:Wachusett Area Chamber Business After Hours
DESCRIPTION:This event features networking\, appetizers\, cash bar and door prizes.  \n\nSponsored  by\n\nService Master by Williams
X-ALT-DESC;FMTTYPE=text/html:<p><span style="font-family: times new roman\;"><span style="font-size: 14px\;">This event features networking\, appetizers\, cash bar and door prizes. &nbsp\;</span></span></p>\n\n<p><em style="font-family: &quot\;times new roman&quot\;\; font-size: 14px\;">Sponsored&nbsp\; by</em><br />\n<span style="font-size: 16px\;"><b>Service Master by Williams</b></span></p>\n
LOCATION:The Mill 185 Restaurant & Lounge\, 185 West Boylston Street\, West Boylston
UID:e.2083.9012
SEQUENCE:3
DTSTAMP:20260423T132315Z
URL:https://business.cmschamber.org/events/details/wachusett-area-chamber-business-after-hours-9012
END:VEVENT

END:VCALENDAR
