BEGIN:VCALENDAR
VERSION:2.0
PRODID:-//ChamberMaster//Event Calendar 2.0//EN
METHOD:PUBLISH
X-PUBLISHED-TTL:P3D
REFRESH-INTERVAL:P3D
CALSCALE:GREGORIAN
BEGIN:VEVENT
DTSTART:20230523T120000Z
DTEND:20230523T203000Z
X-MICROSOFT-CDO-ALLDAYEVENT:FALSE
SUMMARY:Wachusett Area Chamber of Commerce Scholarship Scramble Golf Tournament
DESCRIPTION:Join us for a special 18-hole golf tournament to support the Wachusett Area Chamber of Commerce Scholarship Fund!  Become involved by golfing\, sponsoring and/or donating a prize! \n\nTuesday\, May 23\, 2023\n\nCyprian Keyes Golf Club\n\n284 E. Temple Street\, Boylston\n\n$155 per Golfer \n\n\n\n8:00 am Registration\n\n9:00 am Shot Gun Start\n\n2:30 pm Buffet Lunch\n\nThe event is sponsored by\n\nCountry Bank\n\nThe fee for the tournament includes greens fees\, golf cart\, continental breakfast\, and buffet lunch. In addition\, there will be raffle prizes\, a silent auction\, and special contests throughout the day. Don't miss this fun event!\n\n\n\nFor more information click HERE.
X-ALT-DESC;FMTTYPE=text/html:<p>Join us for a special 18-hole golf tournament to support the Wachusett Area Chamber of Commerce Scholarship Fund!&nbsp\; Become involved by golfing\, sponsoring and/or donating a prize!&nbsp\;</p>\n\n<p><strong>Tuesday\, May 23\, 2023<br />\nCyprian Keyes Golf Club<br />\n284 E. Temple Street\, Boylston</strong></p>\n\n<p><strong>$155 per Golfer </strong><br />\n<br />\n8:00 am Registration<br />\n9:00 am Shot Gun Start<br />\n2:30 pm Buffet Lunch</p>\n\n<p>The event is sponsored by</p>\n\n<p><span style="font-size:14px\;"><strong>Country Bank</strong></span></p>\n\n<p>The fee for the tournament includes greens fees\, golf cart\, continental breakfast\, and buffet lunch. In addition\, there will be raffle prizes\, a silent auction\, and special contests throughout the day. Don&#39\;t miss this fun event!<br />\n<br />\nFor more information click <a href="https://wachusettareachamber.org/events/golf-tournament/">HERE.</a></p>\n
LOCATION:Cyprian Keyes Golf Club\, 284 E. Temple Street\, Boylston MA
UID:e.2083.10221
SEQUENCE:3
DTSTAMP:20260421T024953Z
URL:https://business.cmschamber.org/events/details/wachusett-area-chamber-of-commerce-scholarship-scramble-golf-tournament-10221
END:VEVENT

END:VCALENDAR
