BEGIN:VCALENDAR
VERSION:2.0
PRODID:-//ChamberMaster//Event Calendar 2.0//EN
METHOD:PUBLISH
X-PUBLISHED-TTL:P3D
REFRESH-INTERVAL:P3D
CALSCALE:GREGORIAN
BEGIN:VEVENT
DTSTART:20211110T123000Z
DTEND:20211110T140000Z
X-MICROSOFT-CDO-ALLDAYEVENT:FALSE
SUMMARY:Wachusett Area Chamber Salute Breakfast
DESCRIPTION:This annual event\, sponsored by Christopher House of Worcester\, recognizes businesses\, individuals and organizations that have made their community a better place in which to live.\n\n\n\nThis year's honorees are:\n\n\n\nThe Rutland Vaccination Team\, Rutland\n\nLisa Clark-Viklund and the Council on Aging\, West Boylston Senior Center\n\nThe Wachusett Watershed Regional Recycling Center\, West Boylston\n\n- PUBLIC SAFETY PERSON OF THE  YEAR -\n\nOfficer Dan Contois\, Holden Police Department\n\n\n\nSponsored by\n\nChristopher House of Worcester
X-ALT-DESC;FMTTYPE=text/html:This annual event\, sponsored by Christopher House of Worcester\,&nbsp\;recognizes businesses\, individuals and organizations that have made their community a better place in which to live.<br />\n<br />\n<b>This year&#39\;s honorees are:</b><br />\n<br />\n<em><strong>The Rutland Vaccination Team\, Rutland<br />\nLisa Clark-Viklund and the Council on Aging\, West Boylston Senior Center<br />\nThe Wachusett Watershed Regional Recycling Center\, West Boylston<br />\n- PUBLIC SAFETY PERSON OF THE&nbsp\; YEAR -<br />\nOfficer Dan Contois\, Holden Police Department</strong></em><br />\n<br />\nSponsored by<br />\n<span style="font-size:14px\;"><strong>Christopher House of Worcester</strong></span>
LOCATION:West Boylston Senior Center\, 120 Prescott Street\, West Boylston
UID:e.2083.9116
SEQUENCE:3
DTSTAMP:20260422T062501Z
URL:https://business.cmschamber.org/events/details/wachusett-area-chamber-salute-breakfast-9116
END:VEVENT

END:VCALENDAR
