BEGIN:VCALENDAR
VERSION:2.0
PRODID:-//ChamberMaster//Event Calendar 2.0//EN
METHOD:PUBLISH
X-PUBLISHED-TTL:P3D
REFRESH-INTERVAL:P3D
CALSCALE:GREGORIAN
BEGIN:VEVENT
DTSTART:20190602T130000Z
DTEND:20190602T160000Z
X-MICROSOFT-CDO-ALLDAYEVENT:FALSE
SUMMARY:Walk to Cure Arthritis Central MA
DESCRIPTION:Each year adults and children living with arthritis\, their families and friends come together at the Walk to Cure Arthritis to raise money to continue arthritis research\, programs and services. Our walks are more than just community events\, they are the largest arthritis gatherings in the world. On that day\, we celebrate our arthritis warriors\, their families and supporters\; all while raising money to find a cure.
X-ALT-DESC;FMTTYPE=text/html:Each year adults and children living with arthritis\, their families and friends come together at the Walk to Cure Arthritis to raise money to continue arthritis research\, programs and services. Our walks are more than just community events\, they are the largest arthritis gatherings in the world. On that day\, we celebrate our arthritis warriors\, their families and supporters\; all while raising money to find a cure.
LOCATION:Quinsigamond State Park 283 Lake Avenue Worcester\, MA 01604
UID:e.2083.9762
SEQUENCE:3
DTSTAMP:20260424T040305Z
URL:https://business.cmschamber.org/events/details/walk-to-cure-arthritis-central-ma-06-02-2019-9762
END:VEVENT

END:VCALENDAR
