BEGIN:VCALENDAR
VERSION:2.0
PRODID:-//ChamberMaster//Event Calendar 2.0//EN
METHOD:PUBLISH
X-PUBLISHED-TTL:P3D
REFRESH-INTERVAL:P3D
CALSCALE:GREGORIAN
BEGIN:VEVENT
DTSTART:20210212T180000Z
DTEND:20210212T203000Z
X-MICROSOFT-CDO-ALLDAYEVENT:FALSE
SUMMARY:Watercolor Wintergreens
DESCRIPTION:Watercolor Wintergreens This program will be held indoors in one of our well-ventilated classrooms. Group size will not exceed current state restrictions. Friday\, February 12\, 2021 1:00-3:30 PM Instructor: Suzanne Hauerstein Max Participants: 10 Learn about color theory\, composition and how to paint from observation. Winter greens such as pine\, eucalyptus\, cedar and brightly colored citrus fruit will be the inspiration for our compositions. All material is included. Suzanne Hauerstein is a professional teaching artist and the Coordinator of Volunteer & Intern Services at Tower Hill. She has over 25 years of experience designing and facilitating art-based programs for informal learning environments. Suzanne is committed to creating programs that are accessible\, positive\, and enjoyable learning experiences for students of all ages and abilities. Single class scheduled on 2/12/2021 at 1:00PM
X-ALT-DESC;FMTTYPE=text/html:Watercolor Wintergreens This program will be held indoors in one of our well-ventilated classrooms. Group size will not exceed current state restrictions. Friday\, February 12\, 2021 1:00-3:30 PM Instructor: Suzanne Hauerstein Max Participants: 10 Learn about color theory\, composition and how to paint from observation. Winter greens such as pine\, eucalyptus\, cedar and brightly colored citrus fruit will be the inspiration for our compositions. All material is included. Suzanne Hauerstein is a professional teaching artist and the Coordinator of Volunteer &amp\; Intern Services at Tower Hill. She has over 25 years of experience designing and facilitating art-based programs for informal learning environments. Suzanne is committed to creating programs that are accessible\, positive\, and enjoyable learning experiences for students of all ages and abilities. Single class scheduled on 2/12/2021 at 1:00PM
LOCATION:Tower Hill Botanic Garden 11 French Drive Boylston
UID:e.2083.12483
SEQUENCE:3
DTSTAMP:20260422T192343Z
URL:https://business.cmschamber.org/events/details/watercolor-wintergreens-12483
END:VEVENT

END:VCALENDAR
