BEGIN:VCALENDAR
VERSION:2.0
PRODID:-//ChamberMaster//Event Calendar 2.0//EN
METHOD:PUBLISH
X-PUBLISHED-TTL:P3D
REFRESH-INTERVAL:P3D
CALSCALE:GREGORIAN
BEGIN:VEVENT
DTSTART:20210324T143000Z
DTEND:20210324T193000Z
X-MICROSOFT-CDO-ALLDAYEVENT:FALSE
SUMMARY:Weave an Infinity Scarf Workshop
DESCRIPTION:Weave an Infinity Scarf Workshop This program will be held indoors in one of our well-ventilated classrooms. Group size will not exceed current state restrictions. Wednesday\, March 24\, 2021 10:30 AM - 3:30 PM Max Participants: 6 Instructor: Dahlia Popovits Learn how to make a gorgeous handwoven infinity scarf using colors and textures of your choosing. All material will be provided and you will go home with a wearable finished piece at the end of the session. Space is limited to six people for this intimate fun filled workshop. Dahlia Popovits\, owner of Boston's Dahlia Gallery\, has been designing and weaving extraordinary cloth for over 40 years\, and is happy to be able to share her knowledge through her upcoming workshop. She will guide you through making a gorgeous handwoven infinity scarf using colors and textures of your choosing. No previous experience is required\, and you will go home with a wearable finished piece at the end of the session. All materials are provided. Space is limited to six people for this intimate fun filled workshop. Single class scheduled on 3/24/2021 at 10:30AM
X-ALT-DESC;FMTTYPE=text/html:Weave an Infinity Scarf Workshop This program will be held indoors in one of our well-ventilated classrooms. Group size will not exceed current state restrictions. Wednesday\, March 24\, 2021 10:30 AM - 3:30 PM Max Participants: 6 Instructor: Dahlia Popovits Learn how to make a gorgeous handwoven infinity scarf using colors and textures of your choosing. All material will be provided and you will go home with a wearable finished piece at the end of the session. Space is limited to six people for this intimate fun filled workshop. Dahlia Popovits\, owner of Boston&rsquo\;s Dahlia Gallery\, has been designing and weaving extraordinary cloth for over 40 years\, and is happy to be able to share her knowledge through her upcoming workshop. She will guide you through making a gorgeous handwoven infinity scarf using colors and textures of your choosing. No previous experience is required\, and you will go home with a wearable finished piece at the end of the session. All materials are provided. Space is limited to six people for this intimate fun filled workshop. Single class scheduled on 3/24/2021 at 10:30AM
LOCATION:Tower Hill Botanic Garden 11 French Drive Boylston
UID:e.2083.12704
SEQUENCE:3
DTSTAMP:20260422T174521Z
URL:https://business.cmschamber.org/events/details/weave-an-infinity-scarf-workshop-12704
END:VEVENT

END:VCALENDAR
