BEGIN:VCALENDAR
VERSION:2.0
PRODID:-//ChamberMaster//Event Calendar 2.0//EN
METHOD:PUBLISH
X-PUBLISHED-TTL:P3D
REFRESH-INTERVAL:P3D
CALSCALE:GREGORIAN
BEGIN:VEVENT
DTSTART:20200528T140000Z
DTEND:20200528T150000Z
X-MICROSOFT-CDO-ALLDAYEVENT:FALSE
SUMMARY:Webinar: Managing Your Business’ Cash Flow During a Crisis – Excel Tools and Strategies
DESCRIPTION:Join the Worcester Regional Chamber of Commerce along with Alan Osmolowksi of blumshapiro and Leo Correia from The Delta Group to help you better understand how to manage your business' cash flow during a crisis.  Get the most out of the economic and Excel tools that are available to you today.\n\n\n\nPresenters:\n\nAlan Osmolowski\, Partner\n\nblumshapiro\n\nLeo Correia\, Partner\n\nThe Delta Group Consulting
X-ALT-DESC;FMTTYPE=text/html:Join the Worcester Regional Chamber of Commerce along with Alan Osmolowksi of blumshapiro and Leo Correia from The Delta Group to help you better understand how to manage your business&rsquo\; cash flow during a crisis.&nbsp\; Get the most out of the economic and Excel tools that are available to you today.<br />\n<br />\n<strong>Presenters:</strong><br />\n<strong>Alan Osmolowski\,</strong> Partner<br />\nblumshapiro<br />\n<strong>Leo Correia\,</strong> Partner<br />\nThe Delta Group Consulting
LOCATION:Zoom
UID:e.2083.12100
SEQUENCE:3
DTSTAMP:20260423T101044Z
URL:https://business.cmschamber.org/events/details/webinar-managing-your-business-cash-flow-during-a-crisis-excel-tools-and-strategies-12100
END:VEVENT

END:VCALENDAR
