BEGIN:VCALENDAR
VERSION:2.0
PRODID:-//ChamberMaster//Event Calendar 2.0//EN
METHOD:PUBLISH
X-PUBLISHED-TTL:P3D
REFRESH-INTERVAL:P3D
CALSCALE:GREGORIAN
BEGIN:VEVENT
DTSTART:20211217T003000Z
DTEND:20211217T013000Z
X-MICROSOFT-CDO-ALLDAYEVENT:FALSE
SUMMARY:WHM's PRETTY POWERFUL Program - LA MODE: Presented by Jay Calderin\, Author and Founder of Boston Fashion Week
DESCRIPTION:LA MODE:  The Fashion Design Reference & Specification Book\n\n A PRETTY POWERFUL PROGRAM\n\n presented by\n\nJay Calderin\, author and founder of Boston Fashion Week\n\n(online event)\n \n\nInterested in the world of fashion? Even if you're not an aspiring fashion designer\, you'll enjoy this PRETTY POWERFUL program. We are excited to welcome Jay Calderin to our Zoom stage to discuss his book\, The Fashion Design Reference & Specification Book\, which has just been translated into French (La Mode: Un Guide Pratique De Reference).\n\n \n\nDuring his presentation\, Jay will guide us through the fashion design process and connect the dots between many contemporary practices in the fashion industry and their historical origins. He will also tell us about Boston Fashion Week (BFW)\, which he founded in 1995\, and how the 27th BFW21 (October 3-9\, 2021) was a city-wide augmented reality fashion experience! \n\n?\n\nThis presentation will be followed by a live Q&A\, so come ready with your questions!\n\n \n\nRegistration is required for this FREE program.\n\n \nAbout Jay Calderin\n\n Jay Calderin is an artist\, author\, educator\, and the Founder/Executive Director of Boston Fashion Week. His fashion design work has graced the pages of Vogue and Elle magazines\, been acquired by the Peabody Essex Museum\, and featured in the New York Times Style Section. He teaches at the School of Fashion Design of Boston\, the Massachusetts College of Art + Design\, and the Boston Museum of Fine Arts His artistic endeavors explore the intersections between communication\, technology\, culture\, and community.
X-ALT-DESC;FMTTYPE=text/html:<div style="text-align:center">&nbsp\;<strong><span style="color:#8B2D71"><span style="font-size:12.0pt">LA MODE:&nbsp\; The Fashion Design Reference &amp\; Specification Book</span></span></strong></div>\n\n<div style="text-align:center">&nbsp\;<strong><span style="color:#8B2D71"><span style="font-size:12.0pt">A PRETTY POWERFUL PROGRAM</span></span></strong><br />\n&nbsp\;<strong><span style="color:#8B2D71"><span style="font-size:12.0pt">presented by<br />\nJay Calderin\, author and founder of Boston Fashion Week<br />\n<span style="font-size:14px">(online event)</span></span></span></strong></div>\n&nbsp\;<br />\n<span style="font-size:12px"><strong><span style="color:black">Interested in the world of fashion? Even if you&#39\;re not an aspiring fashion designer\, you&rsquo\;ll enjoy this PRETTY POWERFUL program. </span></strong><span style="color:black">We are excited to welcome&nbsp\;</span><span style="color:black"><a href="http://jaycalderin.com/" target="_blank"><span style="color:#EB4C39">Jay Calderin</span></a></span><span style="color:black"> to our Zoom stage to discuss his book\,<em>&nbsp\;The Fashion Design Reference &amp\; Specification Book</em>\, which has just been translated into French (<em>La Mode: Un Guide Pratique De Reference</em>).</span><br />\n&nbsp\;<br />\n<span style="color:black">During his presentation\, Jay will guide us through the fashion design process and connect the dots between many contemporary practices in the fashion industry and their historical origins. He will also tell us about Boston Fashion Week (BFW)\, which he founded in 1995\, and how the 27<sup>th</sup> BFW21 (October 3-9\, 2021) was a city-wide augmented reality fashion experience!&nbsp\;</span><br />\n?<br />\n<strong><span style="color:black"><span style="font-family:book antiqua\,serif">This presentation will be followed by a live Q&amp\;A\,&nbsp\;</span></span></strong><strong><span style="color:black"><span style="font-family:book antiqua\,serif">so come ready with your questions!</span></span></strong><br />\n&nbsp\;</span>\n\n<div style="text-align:center"><span style="font-size:12px"><span style="font-size:16px"><strong><span style="color:#4F009E"><span style="font-family:book antiqua\,serif">Registration is required for this FREE program.</span></span></strong></span><br />\n&nbsp\;</span></div>\n<span style="font-size:12px"><strong><span style="color:black">About Jay Calderin</span></strong><br />\n&nbsp\;<span style="color:black"><a href="https://massart.edu/faculty/jay-calderin" target="_blank"><span style="color:#EB4C39">Jay Calderin</span></a></span>&nbsp\;<span style="color:black">is an artist\, author\, educator\, and the Founder/Executive Director of Boston Fashion Week. His fashion design work has graced the pages&nbsp\;of <em>Vogue </em>and <em>Elle </em>magazines\, been acquired by the Peabody Essex Museum\, and featured in the&nbsp\;<em>New York Times</em>&nbsp\;Style Section. He teaches at the School of Fashion Design of Boston\, the Massachusetts College of Art + Design\, and the Boston Museum of Fine Arts His artistic endeavors explore the intersections between communication\, technology\, culture\, and community.</span></span>
LOCATION:Worcester Historical Museum 30 Elm Street Worcester\, MA 01609
UID:e.2083.13664
SEQUENCE:3
DTSTAMP:20260422T051949Z
URL:https://business.cmschamber.org/events/details/whm-s-pretty-powerful-program-la-mode-presented-by-jay-calderin-author-and-founder-of-boston-fashion-week-12-16-2021-13664
END:VEVENT

END:VCALENDAR
