BEGIN:VCALENDAR
VERSION:2.0
PRODID:-//ChamberMaster//Event Calendar 2.0//EN
METHOD:PUBLISH
X-PUBLISHED-TTL:P3D
REFRESH-INTERVAL:P3D
CALSCALE:GREGORIAN
BEGIN:VEVENT
DTSTART:20230112T170000Z
DTEND:20230112T183000Z
X-MICROSOFT-CDO-ALLDAYEVENT:FALSE
SUMMARY:Why Email Newsletters are your Best Friend
DESCRIPTION:A whopping 89% of people look at their email daily. Taught by Dee Dice\, a Certified Solutions Provider with Constant Contact\, she will help you create a newsletter that your clients will read and anxiously wait for. We will review the basics\, learn how to create good content\, analyze a series of newsletters and help you get started on yours.
X-ALT-DESC;FMTTYPE=text/html:<span style="color:rgb(0\, 0\, 0)\; font-family:lato\,arial\,helvetica\,sans-serif\; font-size:16px">A whopping 89% of people look at their email daily. Taught by&nbsp\;</span><span style="color:rgb(0\, 0\, 255)\; font-family:lato\,arial\,helvetica\,sans-serif\; font-size:16px"><strong><a href="https://constant-growth.com/" style="color: rgb(45\, 119\, 179)\; text-decoration-line: none\;"><span style="color:rgb(0\, 0\, 255)">Dee Dice</span></a></strong></span><span style="color:rgb(0\, 0\, 0)\; font-family:lato\,arial\,helvetica\,sans-serif\; font-size:16px">\, a Certified Solutions Provider with Constant Contact\, she will help you create a newsletter that your clients will read and anxiously wait for. We will review the basics\, learn how to create good content\, analyze a series of newsletters and help you get started on yours.</span>\n<div>&nbsp\;</div>\n
LOCATION:Zoom.
UID:e.2083.14976
SEQUENCE:3
DTSTAMP:20260421T111540Z
URL:https://business.cmschamber.org/events/details/why-email-newsletters-are-your-best-friend-14976
END:VEVENT

END:VCALENDAR
