BEGIN:VCALENDAR
VERSION:2.0
PRODID:-//ChamberMaster//Event Calendar 2.0//EN
METHOD:PUBLISH
X-PUBLISHED-TTL:P3D
REFRESH-INTERVAL:P3D
CALSCALE:GREGORIAN
BEGIN:VEVENT
DTSTART;VALUE=DATE:20220606
DTEND;VALUE=DATE:20220607
TRANSP:TRANSPARENT
X-MICROSOFT-CDO-ALLDAYEVENT:TRUE
SUMMARY:Why Me Golf Classic
DESCRIPTION:June 6\, 2022 at the Haven Country Club. Day to include full round of golf\, breakfast\, lunch on course\, silent auction and more! Presented by:   Golf $350 per person or $1\,400 per foursome.  Sponsorship opportunities available which include golfer options.  Contact Rebecca at rkuczarski@whyme.org with questions.
X-ALT-DESC;FMTTYPE=text/html:<span style="color:rgb(20\, 24\, 39)\; font-family:lato\,sans-serif\; font-size:16px">June 6\, 2022 at the Haven Country Club. Day to include full round of golf\, breakfast\, lunch on course\, silent auction and more! Presented by: &nbsp\; Golf $350 per person or $1\,400 per foursome.&nbsp\; Sponsorship opportunities available which include golfer options.&nbsp\; Contact Rebecca at rkuczarski@whyme.org with questions.&nbsp\;</span>
LOCATION:369 Cross Street\, Boylston\, MA 01505
UID:e.2083.13941
SEQUENCE:3
DTSTAMP:20260421T202058Z
URL:https://business.cmschamber.org/events/details/why-me-golf-classic-13941
END:VEVENT

END:VCALENDAR
