BEGIN:VCALENDAR
VERSION:2.0
PRODID:-//ChamberMaster//Event Calendar 2.0//EN
METHOD:PUBLISH
X-PUBLISHED-TTL:P3D
REFRESH-INTERVAL:P3D
CALSCALE:GREGORIAN
BEGIN:VEVENT
DTSTART:20200314T190000Z
DTEND:20200315T010000Z
X-MICROSOFT-CDO-ALLDAYEVENT:FALSE
SUMMARY:Why Me Texas Hold'Em Poker Tournament
DESCRIPTION:Presented by Consigli Foundation.  Join us Saturday\, March 14th at Mechanics Hall for our final Poker Tournament.  $100 to play\, with prizes awarded to all 8 players at final table.  Day to include Bar Code Direct Fling the Ring Wine & Alcohol game\, Black Jack\, cash bar\, buffet dinner and so much more.  \n\n\n\nAfter Party at Still & Stir Cocktail Bar!
X-ALT-DESC;FMTTYPE=text/html:Presented by Consigli Foundation.&nbsp\; Join us Saturday\, March 14th at Mechanics Hall for our final Poker Tournament.&nbsp\; $100 to play\, with prizes awarded to all 8 players at final table.&nbsp\; Day to include Bar Code Direct Fling the Ring Wine &amp\; Alcohol game\, Black Jack\, cash bar\, buffet dinner and so much more.&nbsp\;&nbsp\;<br />\n<br />\nAfter Party at Still &amp\; Stir Cocktail Bar!&nbsp\;&nbsp\;
LOCATION:Mechanics Hall\, 321 Main Street\, Worcester\, MA 01608
UID:e.2083.11794
SEQUENCE:3
DTSTAMP:20260423T144604Z
URL:https://business.cmschamber.org/events/details/why-me-texas-hold-em-poker-tournament-11794
END:VEVENT

END:VCALENDAR
