BEGIN:VCALENDAR
VERSION:2.0
PRODID:-//ChamberMaster//Event Calendar 2.0//EN
METHOD:PUBLISH
X-PUBLISHED-TTL:P3D
REFRESH-INTERVAL:P3D
CALSCALE:GREGORIAN
BEGIN:VEVENT
DTSTART:20230402T150000Z
DTEND:20230402T170000Z
X-MICROSOFT-CDO-ALLDAYEVENT:FALSE
SUMMARY:Winslow Peace Park Community Cleanup
DESCRIPTION:Join the Worcester Green Corps for a community cleanup! Please come dressed comfortably for the weather. All supplies will be provided!
X-ALT-DESC;FMTTYPE=text/html:Join the Worcester Green Corps for a community cleanup! Please come dressed comfortably for the weather. All supplies will be provided!&nbsp\;&nbsp\;&nbsp\;&nbsp\;&nbsp\;&nbsp\;&nbsp\;&nbsp\;
LOCATION:We will be meeting at Winslow Peace Park\, at the corner of Winslow Street and Pleasant Street in Worcester.
UID:e.2083.15503
SEQUENCE:3
DTSTAMP:20260421T042356Z
URL:https://business.cmschamber.org/events/details/winslow-peace-park-community-cleanup-15503
END:VEVENT

END:VCALENDAR
