BEGIN:VCALENDAR
VERSION:2.0
PRODID:-//ChamberMaster//Event Calendar 2.0//EN
METHOD:PUBLISH
X-PUBLISHED-TTL:P3D
REFRESH-INTERVAL:P3D
CALSCALE:GREGORIAN
BEGIN:VEVENT
DTSTART:20220207T220000Z
DTEND:20220208T033000Z
X-MICROSOFT-CDO-ALLDAYEVENT:FALSE
SUMMARY:Withum Beanpot Doubleheader 2022
DESCRIPTION:Withum is proud to host the Withum Beanpot Doubleheader.\n\n\n\n\n\n\n\n\n\nThis event features a watch party at The Greatest Bar\, highlighting the final games of the Beanpot college hockey tournament\n\n\n\n\n\n\n\n\n\nOur goal at these events is to connect fans and school alumni who live and work in the Greater Boston area. We give attendees the opportunity to network with each other and enjoy the finale of the tournament\, while most importantly\, giving back to some great causes.\n\n\n\n\n\n\n\n\n\nAll proceeds of this series will benefit Ronald McDonald House\, as well as American Cancer Society affiliates Coaches vs. Cancerand Hockey Fights Cancer.\n\n\n\n\n\n\n\n\n\nEvent Ticket Includes:entry\, food\, beer\, wine and non-alcoholic drinks for the duration of the event!
X-ALT-DESC;FMTTYPE=text/html:<div>\n<div style="margin-left:auto\; margin-right:auto">\n<div style="margin-left:-15px\; margin-right:-15px">\n<div>\n<h4><span style="color:inherit !important">Withum is proud to host the Withum Beanpot Doubleheader</span>.</h4>\n</div>\n</div>\n</div>\n</div>\n\n<div>\n<div style="margin-left:auto\; margin-right:auto">\n<div style="margin-left:-15px\; margin-right:-15px">\n<div>\n<p>This event features a watch party at The Greatest Bar\, highlighting the final games of the Beanpot college hockey tournament</p>\n</div>\n</div>\n</div>\n</div>\n\n<div>\n<div style="margin-left:auto\; margin-right:auto">\n<div style="margin-left:-15px\; margin-right:-15px">\n<div>\n<p>Our goal at these events is to connect fans and school alumni who live and work in the Greater Boston area. We give attendees the opportunity to network with each other and enjoy the finale of the tournament\, while most importantly\, giving back to some great causes.</p>\n</div>\n</div>\n</div>\n</div>\n\n<div>\n<div style="margin-left:auto\; margin-right:auto">\n<div style="margin-left:-15px\; margin-right:-15px">\n<div>\n<p>All proceeds of this series will benefit&nbsp\;<a href="https://rmhcne.org/" style="box-sizing: border-box\; color: rgb(0\, 87\, 184)\; background-color: transparent\; font-weight: 700\;">Ronald McDonald House</a>\, as well as American Cancer Society affiliates&nbsp\;<a href="https://www.cancer.org/our-partners/coaches-vs-cancer.html" style="box-sizing: border-box\; color: rgb(0\, 87\, 184)\; background-color: transparent\; font-weight: 700\;">Coaches vs. Cancer</a>and&nbsp\;<a href="https://www.cancer.org/our-partners/hockey-fights-cancer.html" style="box-sizing: border-box\; color: rgb(0\, 87\, 184)\; background-color: transparent\; font-weight: 700\;">Hockey Fights Cancer</a>.</p>\n</div>\n</div>\n</div>\n</div>\n\n<div>\n<div style="margin-left:auto\; margin-right:auto">\n<div style="margin-left:-15px\; margin-right:-15px">\n<div>\n<p>Event Ticket Includes:entry\, food\, beer\, wine and non-alcoholic drinks for the duration of the event!</p>\n</div>\n</div>\n</div>\n</div>\n
LOCATION:The Greatest Bar 262 Friend Street\, Boston\, MA 02114
UID:e.2083.13733
SEQUENCE:3
DTSTAMP:20260422T021408Z
URL:https://business.cmschamber.org/events/details/withum-beanpot-doubleheader-2022-13733
END:VEVENT

END:VCALENDAR
