BEGIN:VCALENDAR
VERSION:2.0
PRODID:-//ChamberMaster//Event Calendar 2.0//EN
METHOD:PUBLISH
X-PUBLISHED-TTL:P3D
REFRESH-INTERVAL:P3D
CALSCALE:GREGORIAN
BEGIN:VEVENT
DTSTART:20210324T150000Z
DTEND:20210324T160000Z
X-MICROSOFT-CDO-ALLDAYEVENT:FALSE
SUMMARY:Woman-Owned Certification – Advanced
DESCRIPTION:Please join the Center for Women & Enterprise and the Small Business Administration for this free informational webinar: \n\nYou've done the research\, your business is at least 51% owned\, and 100% operated\, managed\, and controlled by a woman or women\, and you are officially ready to start the exciting process of certifying your business as woman-owned. Now what?! In this webinar you will hear from certifications experts in both the public and private sectors on what the certification process looks like and how you can get started! \n\n\n\nClick Here to Register
X-ALT-DESC;FMTTYPE=text/html:<p style="text-align:left">Please join the Center for Women &amp\; Enterprise and the Small Business Administration for this free informational webinar:&nbsp\;</p>\n\n<p style="text-align:left">You&#39\;ve done the research\, your business is at least 51% owned\, and 100% operated\, managed\, and controlled by a woman or women\, and you are officially ready to start the exciting process of certifying your business as woman-owned. Now what?! In this webinar you will hear from certifications experts in both the public and private sectors on what the certification process looks like and how you can get started!&nbsp\;<br />\n<br />\n<a href="https://cwewbc.ecenterdirect.com/events/976693">Click Here to Register</a></p>\n
LOCATION:Online webinar.
UID:e.2083.12712
SEQUENCE:3
DTSTAMP:20260422T192029Z
URL:https://business.cmschamber.org/events/details/woman-owned-certification-advanced-12712
END:VEVENT

END:VCALENDAR
