BEGIN:VCALENDAR
VERSION:2.0
PRODID:-//ChamberMaster//Event Calendar 2.0//EN
METHOD:PUBLISH
X-PUBLISHED-TTL:P3D
REFRESH-INTERVAL:P3D
CALSCALE:GREGORIAN
BEGIN:VEVENT
DTSTART:20210310T180000Z
DTEND:20210310T190000Z
X-MICROSOFT-CDO-ALLDAYEVENT:FALSE
SUMMARY:Woman-Owned Certification - The Basics
DESCRIPTION:Join the Center for Women & Enterprise and the Small Business Administration for this complimentary\, informative webinar and learn:\n\n\n	Why certifying your business as woman-owned is good for business\n	How certification can help you expand your business network and ultimately grow your business through contracts with corporations\, colleges and universities\, and government entities\n	Whether your business is a good candidate for certification\n	What the certification process entails and how to get started\n\n\nThis webinar is brought to you by Western Mass Means Business\, a collaboration of the Center for Women & Enterprise\, Common Capital\, Franklin County Community Development Corporation\, Massachusetts Small Business Development Center\, SCORE of Western Mass\, Valley CDC\, UMass Amherst\, Clark University and Salem State University.  Attendee information will be shared with these collaborators.\n\n\n\nClick Here to Register
X-ALT-DESC;FMTTYPE=text/html:<p style="text-align:left">Join the Center for Women &amp\; Enterprise and the Small Business Administration for this complimentary\, informative webinar and learn:</p>\n\n<ul>\n	<li>Why certifying your business as woman-owned is good for business</li>\n	<li>How certification can help you expand your business network and ultimately grow your business through contracts with corporations\, colleges and universities\, and government entities</li>\n	<li>Whether your business is a good candidate for certification</li>\n	<li>What the certification process entails and how to get started</li>\n</ul>\n\n<p style="text-align:left">This webinar is brought to you by&nbsp\;<a href="https://western-mass-means-business.squarespace.com/" rel="noopener noreferrer" style="color: rgb(45\, 119\, 179)\; text-decoration: none\;" target="_blank">Western Mass Means Business</a>\, a collaboration of the Center for Women &amp\; Enterprise\, Common Capital\, Franklin County Community Development Corporation\, Massachusetts Small Business Development Center\, SCORE of Western Mass\, Valley CDC\, UMass Amherst\, Clark University and Salem State University.&nbsp\; Attendee information will be shared with these collaborators.<br />\n<br />\n<a href="https://cwewbc.ecenterdirect.com/events/976692">Click Here to Register</a></p>\n
LOCATION:Online Webinar
UID:e.2083.12708
SEQUENCE:3
DTSTAMP:20260422T175544Z
URL:https://business.cmschamber.org/events/details/woman-owned-certification-the-basics-12708
END:VEVENT

END:VCALENDAR
