BEGIN:VCALENDAR
VERSION:2.0
PRODID:-//ChamberMaster//Event Calendar 2.0//EN
METHOD:PUBLISH
X-PUBLISHED-TTL:P3D
REFRESH-INTERVAL:P3D
CALSCALE:GREGORIAN
BEGIN:VEVENT
DTSTART:20220608T220000Z
DTEND:20220609T000000Z
X-MICROSOFT-CDO-ALLDAYEVENT:FALSE
SUMMARY:Women Empowerment Wednesday
DESCRIPTION:Empowerment Wednesday's is a space | time dedicated to true connection. Where we show up as we are with the real intention of wanting to learn from one another and grow our network positively and responsibly. \n\nIt's a great space to get to know powerful women entrepreneours and learn from their stories.\n\n\n\nHosted by Monica Adwani of BRZ Insurance. This month's speaker is Jaclyn Packard of Packard Law Office.\n\n\n\nJune 8th at 6pm. Located at BRZ Insurance\, 107 Concord Street\, Framingham\, MA 01702.\n\nJoin Us!\n\n\n\nTo Register: https://www.eventbrite.com/e/women-empowerment-networking-event-tickets-341997302137
X-ALT-DESC;FMTTYPE=text/html:<p>Empowerment Wednesday&#39\;s is a space | time dedicated to true connection. Where we show up as we are with the real intention of wanting to learn from one another and grow our network positively and responsibly.&nbsp\;</p>\n\n<p>It&#39\;s a great space to get to know powerful women entrepreneours and learn from their stories.<br />\n<br />\nHosted by Monica Adwani of BRZ Insurance. This month&#39\;s speaker is Jaclyn Packard of Packard Law Office.<br />\n<br />\nJune 8th at 6pm. Located at BRZ Insurance\, 107 Concord Street\, Framingham\, MA 01702.</p>\n\n<p>Join Us!<br />\n<br />\nTo Register:&nbsp\;<a href="https://www.eventbrite.com/e/women-empowerment-networking-event-tickets-341997302137">https://www.eventbrite.com/e/women-empowerment-networking-event-tickets-341997302137</a></p>\n
LOCATION:BRZ Insurance Agency 107 Concord Street Framingham\, MA 01702
UID:e.2083.13956
SEQUENCE:3
DTSTAMP:20260421T202303Z
URL:https://business.cmschamber.org/events/details/women-empowerment-wednesday-13956
END:VEVENT

END:VCALENDAR
