BEGIN:VCALENDAR
VERSION:2.0
PRODID:-//ChamberMaster//Event Calendar 2.0//EN
METHOD:PUBLISH
X-PUBLISHED-TTL:P3D
REFRESH-INTERVAL:P3D
CALSCALE:GREGORIAN
BEGIN:VEVENT
DTSTART:20191106T220000Z
DTEND:20191107T000000Z
X-MICROSOFT-CDO-ALLDAYEVENT:FALSE
SUMMARY:Women in Manufacturing Networking/Social Hour
DESCRIPTION:Women in Manufacturing\, WiM\, is sponsoring a Networking/Social Hour at the Dark Rose Saloon on Wednesday\, November 6\, 2019 from 5:00p - 7:00p.\n\n\n\nThere will be complimentary appetizers\, soft drinks and your first beer is on WiM! \n\nCost to Attend: $20 Members\n\n                         $30 General\n\nWomen in Manufacturing  (WiM) is the only national trade association dedicated to providing year-round support to women who have chosen a career in the manufacturing industry.\nhttps://www.womeninmanufacturing.org/about/who-we-are
X-ALT-DESC;FMTTYPE=text/html:<p>Women in Manufacturing\, WiM\, is sponsoring a Networking/Social Hour at the Dark Rose Saloon on Wednesday\, November 6\, 2019 from 5:00p - 7:00p.<br />\n<br />\nThere will be complimentary appetizers\, soft drinks and your first beer is on WiM!&nbsp\;<br />\nCost to Attend: $20 Members<br />\n&nbsp\;&nbsp\;&nbsp\;&nbsp\;&nbsp\;&nbsp\;&nbsp\;&nbsp\;&nbsp\;&nbsp\;&nbsp\;&nbsp\;&nbsp\;&nbsp\;&nbsp\;&nbsp\;&nbsp\;&nbsp\;&nbsp\;&nbsp\;&nbsp\; &nbsp\; &nbsp\;$30 General</p>\n\n<p><span style="color:rgb(0\, 0\, 0)\; font-family:open sans\,helvetica\,arial\,sans-serif\; font-size:14px">Women in Manufacturing&reg\; (WiM)</span><span style="color:rgb(0\, 0\, 0)\; font-family:open sans\,helvetica\,arial\,sans-serif\; font-size:14px">&nbsp\;is the only national trade association dedicated to providing year-round support to women who have chosen a career in the manufacturing industry.</span></p>\n<a href="https://www.womeninmanufacturing.org/about/who-we-are">https://www.womeninmanufacturing.org/about/who-we-are</a>
LOCATION:Dark Rose Saloon 274 Shrewsbury Street Worcester\, MA 01604 Dark Rose Saloon focuses on high-quality craft cocktails\, an authentically welcoming atmosphere and a helluva good time. You'll feel cooler for having been here!
UID:e.2083.11631
SEQUENCE:3
DTSTAMP:20260423T193828Z
URL:https://business.cmschamber.org/events/details/women-in-manufacturing-networking-social-hour-11631
END:VEVENT

END:VCALENDAR
