BEGIN:VCALENDAR
VERSION:2.0
PRODID:-//ChamberMaster//Event Calendar 2.0//EN
METHOD:PUBLISH
X-PUBLISHED-TTL:P3D
REFRESH-INTERVAL:P3D
CALSCALE:GREGORIAN
BEGIN:VEVENT
DTSTART:20220524T153000Z
DTEND:20220524T163000Z
X-MICROSOFT-CDO-ALLDAYEVENT:FALSE
SUMMARY:Women Supporting Women: Navigating the New Normal
DESCRIPTION:As we are all navigating this "new normal\," the Center for Women & Enterprise is offering a series of networking workshops to help you connect with fellow women small business owners while you also reconnect with yourself. Grab your coffee and come share your challenges and successes with those that can empathize with you. During a time when it's not easy to make new connections\, we welcome you to come share your story and listen\, and build meaningful relationships during a difficult time. Entrepreneurship can be very lonely and we know that we are better together. Come connect and refuel your tank!
X-ALT-DESC;FMTTYPE=text/html:<span style="color:rgb(0\, 0\, 0)\; font-family:lato\,arial\,helvetica\,sans-serif\; font-size:16px">As we are all navigating this &quot\;new normal\,&quot\; the Center for Women &amp\; Enterprise is offering a series of networking workshops to help you connect with fellow women small business owners while you also reconnect with yourself. Grab your coffee and come share your challenges and successes with those that can empathize with you. During a time when it&#39\;s not easy to make new connections\, we welcome you to come share your story and listen\, and build meaningful relationships during a difficult time. Entrepreneurship can be very lonely and we know that we are better together. Come connect and refuel your tank!</span>\n<div>&nbsp\;</div>\n
LOCATION:Zoom
UID:e.2083.13946
SEQUENCE:3
DTSTAMP:20260421T215417Z
URL:https://business.cmschamber.org/events/details/women-supporting-women-navigating-the-new-normal-13946
END:VEVENT

END:VCALENDAR
